Workbook

Sheet 1. Curiculum Benchmark - Tổng h
I1: CHƯƠNG TRÌNH ĐÀO TẠO: MÃ NGÀNH: TRÌNH ĐỘ ĐÀO TẠO: KHOA QUẢN LÝ CTĐT:
I2: Chương trình đào tạo đối sánh (trong nước) Đại học Công nghệ, Đại học Quốc gia Hà Nội: https://uet.vnu.edu.vn/chuong-trinh-dao-tao-nganh-cong-nghe-thong-tin-3/ | N2: Chương trình đào tạo quốc tế Bachelor of Science in Computer Science and Engineering of MIT Electrical Engineering & Computer Science Department: https://www.eecs.mit.edu/academics/undergraduate-programs/curriculum/6-3-computer-science-and-engineering/ | AG2: Chuẩn nghề Nghiệp liên quan trong nước (TCVN - Thắng) | AP2: Chuẩn nghề Nghiệp liên quan quốc tế (chuẩn ACM - Thắng) | AQ2: Nhu cầu Nhà sử dụng lao động
A6: Mapping với các chuẩn quốc tế ACM và ASIIN
A7: A | B7: Nhóm các HP đáp ứng các tiêu chuẩn
A8: TT | B8: Mã học phần | C8: Học phần | D8: Học kỳ | E8: Khối kiến thức/ Khối học tập | F8: Số tín chỉ | G8: Bắt buộc/ lựa chọn bắt buộc/ lựa chọn tự do
A9: 1 | C9: Triết học Mác Lênin | D9: Kỳ 1 | E9: Giáo dục Đại cương | F9: 3 | G9: Bắt buộc
C10: Giải tích 1 | D10: Kỳ 1 | E10: Giáo dục Đại cương | F10: 3 | G10: Bắt buộc
C11: Tin học cơ sở 1 | D11: Kỳ 1 | E11: Giáo dục Đại cương | F11: 2 | G11: Bắt buộc
C12: Đại số | D12: Kỳ 1 | E12: Giáo dục Đại cương | F12: 3 | G12: Bắt buộc
C13: Kinh tế chính trị Mác Lênin | D13: Kỳ 2 | E13: Giáo dục Đại cương | F13: 2 | G13: Bắt buộc
C14: Tiếng Anh (Course 1) | D14: Kỳ 2 | E14: Giáo dục Đại cương | F14: 4 | G14: Bắt buộc
C15: Giải tích 2 | D15: Kỳ 2 | E15: Giáo dục Đại cương | F15: 3 | G15: Bắt buộc
B16: INT1155 | C16: Tin học cơ sở 2 | D16: Kỳ 2 | E16: Giáo dục Đại cương | F16: 2 | G16: Bắt buộc
C17: Kỹ thuật số | D17: Kỳ 2 | E17: Giáo dục Đại cương | F17: 2 | G17: Bắt buộc
C18: Pháp luật đại cương | D18: Kỳ 2 | E18: Giáo dục Đại cương | F18: 2 | G18: Bắt buộc
C19: Chủ nghĩa xã hội khoa học | D19: Kỳ 3 | E19: Giáo dục Đại cương | F19: 2 | G19: Bắt buộc
C20: Tiếng Anh (Course 2) | D20: Kỳ 3 | E20: Giáo dục Đại cương | F20: 4 | G20: Bắt buộc
B21: INT1358 | C21: Toán rời rạc 1 | D21: Kỳ 3 | E21: Cơ sở ngành | F21: 3 | G21: Bắt buộc
C22: Xác suất thống kê | D22: Kỳ 3 | E22: Giáo dục Đại cương | F22: 3 | G22: Bắt buộc
B23: ELE1330 | C23: Xử lý tín hiệu số | D23: Kỳ 3 | E23: Cơ sở ngành | F23: 2 | G23: Bắt buộc
B24: INT1339 | C24: Ngôn ngữ lập trình C++ | D24: Kỳ 3 | E24: Cơ sở ngành | F24: 3 | G24: Bắt buộc
C25: Kỹ năng mềm 1 | D25: Kỳ 3 | E25: Giáo dục Đại cương | G25: Lựa chọn tự do
C26: Tư tưởng Hồ Chí Minh | D26: Kỳ 4 | E26: Giáo dục Đại cương | F26: 2 | G26: Bắt buộc
C27: Tiếng Anh (Course 3) | D27: Kỳ 4 | E27: Giáo dục Đại cương | F27: 4 | G27: Bắt buộc
B28: INT130145 | C28: Kiến trúc máy tính | D28: Kỳ 4 | E28: Cơ sở ngành | F28: 3 | G28: Bắt buộc
B29: INT1359 | C29: Toán rời rạc 2 | D29: Kỳ 4 | E29: Cơ sở ngành | F29: 3 | G29: Bắt buộc
B30: INT1306 | C30: Cấu trúc dữ liệu và giải thuật | D30: Kỳ 4 | E30: Cơ sở ngành | F30: 3 | G30: Bắt buộc
B31: ELE1319 | C31: Lý thuyết thông tin | D31: Kỳ 4 | E31: Cơ sở ngành | F31: 3 | G31: Bắt buộc
C32: Kỹ năng mềm 2 | D32: Kỳ 4 | E32: Giáo dục Đại cương | G32: Lựa chọn tự do
C33: Lịch sử Đảng cộng sản Việt Nam | D33: Kỳ 5 | E33: Giáo dục Đại cương | F33: 2 | G33: Bắt buộc
B34: INT13162 | C34: Lập trình với Python | D34: Kỳ 5 | E34: Cơ sở ngành | F34: 3 | G34: Bắt buộc
B35: INT1319 | C35: Hệ điều hành | D35: Kỳ 5 | E35: Cơ sở ngành | F35: 3 | G35: Bắt buộc
B36: INT1336 | C36: Mạng máy tính | D36: Kỳ 5 | E36: Cơ sở ngành | F36: 3 | G36: Bắt buộc
B37: INT1332 | C37: Lập trình hướng đối tượng | D37: Kỳ 5 | E37: Cơ sở ngành | F37: 3 | G37: Bắt buộc
B38: INT1313 | C38: Cơ sở dữ liệu | D38: Kỳ 5 | E38: Cơ sở ngành | F38: 3 | G38: Bắt buộc
C39: Tiếng Anh (Course 3 Plus) | D39: Kỳ 5 | E39: Giáo dục Đại cương | F39: 2 | G39: Bắt buộc
B40: INT1434 | C40: Lập trình web | D40: Kỳ 6 | E40: Chuyên ngành | F40: 3 | G40: Bắt buộc
B41: INT1303 | C41: An toàn và bảo mật hệ thống thông tin | D41: Kỳ 6 | E41: Cơ sở ngành | F41: 3 | G41: Bắt buộc
B42: INT1340 | C42: Nhập môn công nghệ phần mềm | D42: Kỳ 6 | E42: Cơ sở ngành | F42: 3 | G42: Bắt buộc
B43: INT1341 | C43: Nhập môn trí tuệ nhân tạo | D43: Kỳ 6 | E43: Cơ sở ngành | F43: 3 | G43: Bắt buộc
...

Sheet C.M. Nghị quyết 57 revised
H1: Link trích dẫn: https://thuvienphapluat.vn/van-ban/Cong-nghe-thong-tin/Nghi-quyet-57-NQ-TW-2024-dot-pha-phat-trien-khoa-hoc-cong-nghe-doi-moi-sang-tao-637245.aspx
H2: I. Quan điểm chỉ đạo | M2: II. Mục tiêu đến 2030 | R2: II. Tầm nhìn đến 2045 | U2: III. Nhiệm vụ, giải pháp
A3: STT | B3: Mã học phần | C3: Học phần | D3: Học kỳ | E3: Khối kiến thức/ Khối học tập | F3: Số tín chỉ | G3: Bắt buộc/ lựa chọn bắt buộc/ lựa chọn tự do | H3: 1. Phát triển khoa học, công nghệ, đổi mới sáng tạo và chuyển đổi số là đột phá quan trọng hàng đầu; Phát triển nhanh lực lượng sản xuất hiện đại, hoàn thiện quan hệ sản xuất, đổi mới phương thức quản trị quốc gia | I3: 2. Tăng cường sự lãnh đạo toàn diện của Đảng, phát huy sức mạnh tổng hợp của cả hệ thống chính trị, sự tham gia tích cực của doanh nhân, doanh nghiệp và Nhân dân đối với phát triển khoa học, công nghệ, đổi mới sáng tạo và chuyển đổi số quốc gia; Cách mạng sâu sắc, toàn diện trên tất cả các lĩnh vực; Người dân và doanh nghiệp là trung tâm, là chủ thể, nguồn lực, động lực chính; nhà khoa học là nhân tố then chốt; Nhà nước giữ vai trò dẫn dắt, thúc đẩy. | J3: 3. Thể chế, nhân lực, hạ tầng, dữ liệu và công nghệ chiến lược là những nội dung trọng tâm, cốt lõi, trong đó thể chế là điều kiện tiên quyết; Đổi mới tư duy xây dựng pháp luật bảo đảm yêu cầu quản lý và khuyến khích đổi mới sáng tạo; Chú trọng bảo đảm nguồn nhân lực trình độ cao cho phát triển khoa học, công nghệ, đổi mới sáng tạo và chuyển đổi số quốc gia; Phát triển hạ tầng, nhất là hạ tầng số, công nghệ số; Làm giàu, khai thác tối đa tiềm năng của dữ liệu, đưa dữ liệu thành tư liệu sản xuất chính; Thúc đẩy phát triển nhanh cơ sở dữ liệu lớn, công nghiệp dữ liệu, kinh tế dữ liệu. | K3: 4. Phát triển nhanh và bền vững, từng bước tự chủ về công nghệ, nhất là công nghệ chiến lược; Phát huy tối đa tiềm năng, trí tuệ Việt Nam gắn với nhanh chóng tiếp thu, hấp thụ, làm chủ và ứng dụng thành tựu khoa học, công nghệ tiên tiến của thế giới; Đẩy mạnh nghiên cứu ứng dụng, chú trọng nghiên cứu cơ bản | L3: 5. Bảo đảm chủ quyền quốc gia trên không gian mạng; bảo đảm an ninh mạng, an ninh dữ liệu, an toàn thông tin của tổ chức và cá nhân là yêu cầu xuyên suốt. | M3: 6. Tiềm lực, trình độ khoa học, công nghệ và đổi mới sáng tạo đạt mức tiên tiến ở nhiều lĩnh vực quan trọng: Việt Nam thuộc nhóm 3 nước dẫn đầu Đông Nam Á, nhóm 50 nước đứng đầu thế giới về năng lực cạnh tranh số và chỉ số phát triển Chính phủ điện tử; nhóm 3 nước dẫn đầu khu vực Đông Nam Á về nghiên cứu và phát triển trí tuệ nhân tạo, trung tâm phát triển một số ngành, lĩnh vực công nghiệp công nghệ số mà Việt Nam có lợi thế; Tối thiểu có 5 doanh nghiệp công nghệ số ngang tầm các nước tiên tiến. | N3: 7. Đóng góp của năng suất nhân tố tổng hợp (TFP) vào tăng trưởng kinh tế ở mức trên 55%; tỉ trọng xuất khẩu sản phẩm công nghệ cao trên tổng giá trị hàng hoá xuất khẩu đạt tối thiểu 50%; Quy mô kinh tế số đạt tối thiểu 30% GDP; Tỉ lệ sử dụng dịch vụ công trực tuyến của người dân và doanh nghiệp đạt trên 80%; Giao dịch không dùng tiền mặt đạt 80%; Tỉ lệ doanh nghiệp có hoạt động đổi mới sáng tạo đạt trên 40% trong tổng số doanh nghiệp; Khoa học, công nghệ và đổi mới sáng tạo góp phần quan trọng xây dựng, phát triển giá trị văn hoá, xã hội, con người Việt Nam, đóng góp vào chỉ số phát triển con người (HDI) duy trì trên 0,7. | O3: 8. Kinh phí chi cho nghiên cứu phát triển (R&D) đạt 2% GDP; Ít nhất 3% tổng chi ngân sách hằng năm cho phát triển khoa học, công nghệ, đổi mới sáng tạo, chuyển đổi số quốc gia; Gắn kết chặt chẽ giữa nghiên cứu - ứng dụng - đào tạo; Nguồn nhân lực nghiên cứu khoa học, phát triển công nghệ, đổi mới sáng tạo đạt 12 người trên một vạn dân; Có từ 40 - 50 tổ chức khoa học và công nghệ được xếp hạng khu vực và thế giới; Số lượng công bố khoa học quốc tế tăng trung bình 10%/năm; Số lượng đơn đăng ký sáng chế, văn bằng bảo hộ sáng chế tăng trung bình 16 - 18%/năm, tỉ lệ khai thác thương mại đạt 8 - 10%. | P3: 9. Hạ tầng công nghệ số tiên tiến, hiện đại, dung lượng siêu lớn, băng thông siêu rộng ngang tầm các nước tiên tiến; Từng bước làm chủ một số công nghệ chiến lược, công nghệ số như: Trí tuệ nhân tạo, Internet vạn vật (IoT), dữ liệu lớn, điện toán đám mây, chuỗi khối, bán dẫn, công nghệ lượng tử, nano, thông tin di động 5G, 6G, thông tin vệ tinh...; Phủ sóng 5G toàn quốc; Hoàn thành xây dựng đô thị thông minh đối với các thành phố trực thuộc Trung ương và một số tỉnh. Thu hút thêm ít nhất 3 tổ chức, doanh nghiệp công nghệ hàng đầu thế giới đặt trụ sở, đầu tư nghiên cứu, sản xuất tại Việt Nam. | Q3: 10. Quản lý nhà nước từ Trung ương đến địa phương trên môi trường số, kết nối và vận hành thông suốt giữa các cơ quan; Hoàn thành xây dựng, kết nối, chia sẻ đồng bộ cơ sở dữ liệu quốc gia, cơ sở dữ liệu các ngành; Khai thác và sử dụng có hiệu quả tài nguyên số, dữ liệu số, hình thành sàn giao dịch dữ liệu; Phát triển Chính phủ số, kinh tế số, xã hội số, công dân số, công nghiệp văn hoá số đạt mức cao của thế giới; Việt Nam thuộc nhóm các nước dẫn đầu về an toàn, an ninh không gian mạng, an ninh dữ liệu và bảo vệ dữ liệu. | R3: 11. Khoa học, công nghệ, đổi mới sáng tạo và chuyển đổi số phát triển vững chắc, góp phần đưa Việt Nam trở thành nước phát triển, có thu nhập cao. | S3: 12. Việt Nam có quy mô kinh tế số đạt tối thiểu 50% GDP; là một trong các trung tâm công nghiệp công nghệ số của khu vực và thế giới; thuộc nhóm 30 nước dẫn đầu thế giới về đổi mới sáng tạo, chuyển đổi số. Tỉ lệ doanh nghiệp công nghệ số tương đương các nước phát triển; tối thiểu có 10 doanh nghiệp công nghệ số ngang tầm các nước tiên tiến. | T3: 13. Thu hút thêm ít nhất 5 tổ chức, doanh nghiệp công nghệ hàng đầu thế giới đặt trụ sở, đầu tư nghiên cứu, sản xuất tại Việt Nam. | U3: 14. Nâng cao nhận thức, đột phá về đổi mới tư duy, xác định quyết tâm chính trị mạnh mẽ, quyết liệt lãnh đạo, chỉ đạo, tạo xung lực mới, khí thế mới trong toàn xã hội về phát triển khoa học, công nghệ, đổi mới sáng tạo và chuyển đổi số quốc gia - Nhận thức đầy đủ tầm quan trọng và quán triệt sâu sắc các quan điểm, chủ trương, chính sách của Đảng, Nhà nước về chuyển đổi số, phát triển khoa học, công nghệ, đổi mới sáng tạo - Người đứng đầu phải trực tiếp phụ trách, chỉ đạo; cán bộ, đảng viên phải gương mẫu thực hiện - Nhiệm vụ chuyển đổi số, phát triển khoa học, công nghệ, đổi mới sáng tạo được xác định cụ thể trong chương trình, kế hoạch công tác hằng năm của cơ quan - Bố trí phù hợp số lượng cán bộ có trình độ chuyên môn khoa học kỹ thuật trong cấp uỷ các cấp - Phát huy tinh thần sáng tạo, dám nghĩ, dám làm, dám chịu trách nhiệm của đội ngũ cán bộ, đảng viên trong phát triển khoa học, công nghệ, đổi mới sáng tạo và chuyển đổi số. - Tuyên truyền, giáo dục hiệu quả để nâng cao nhận thức, quyết tâm, phát triển khoa học, công nghệ và đổi mới sáng tạo, thực hiện chuyển đổi số trong cả hệ thống chính trị. - Triển khai sâu rộng phong trào "học tập số", phổ cập, nâng cao kiến thức khoa học, công nghệ, kiến thức số. - Mở rộng đa dạng các hình thức tôn vinh, biểu dương, khen thưởng kịp thời, xứng đáng các nhà khoa học, nhà sáng chế, các doanh nghiệp, tổ chức, cá nhân có thành tích trong phát triển khoa học, công nghệ, đổi mới sáng tạo và chuyển đổi số | V3: 15. Hoàn thiện thể chế; xoá bỏ mọi tư tưởng, quan niệm, rào cản đang cản trở sự phát triển; đưa thể chế thành một lợi thế cạnh tranh trong phát triển khoa học, công nghệ, đổi mới sáng tạo và chuyển đổi số - Phát triển giáo dục và đào tạo; khoa học và công nghệ, đổi mới sáng tạo, chuyển đổi số quốc gia - Hoàn thiện các quy định pháp luật - Thí điểm đối với những vấn đề thực tiễn mới đặt ra; Chấp nhận rủi ro, đầu tư mạo hiểm và độ trễ trong nghiên cứu khoa học, phát triển công nghệ, đổi mới sáng tạo; Để doanh nghiệp thử nghiệm công nghệ; Miễn trừ trách nhiệm trong trường hợp thử nghiệm công nghệ mới, mô hình kinh doanh mới mà có thiệt hại về kinh tế do nguyên nhân khách quan; Hình thành các quỹ đầu tư mạo hiểm cho khởi nghiệp sáng tạo, ươm tạo công nghệ và chuyển đổi số - Nâng cao hiệu quả quản lý nhà nước về khoa học, công nghệ, đổi mới sáng tạo và chuyển đổi số; Phát triển các viện nghiên cứu, trường đại học; Kết hợp chặt chẽ giữa nghiên cứu, ứng dụng và đào tạo; Sáp nhập, giải thể các tổ chức khoa học và công nghệ hoạt động không hiệu quả; Hỗ trợ, phát triển các tổ chức nghiên cứu khoa học và công nghệ công lập hoạt động hiệu quả; Giao quyền tự chủ, tự chịu trách nhiệm, thuê chuyên gia; Khuyến khích các tổ chức nghiên cứu, nhà khoa học thành lập và tham gia điều hành doanh nghiệp dựa trên kết quả nghiên cứu. - Thu hút, sử dụng có hiệu quả mọi nguồn lực đầu tư cho phát triển khoa học, công nghệ, đổi mới sáng tạo, chuyển đổi số quốc gia; Ngân sách chi cho nghiên cứu, phát triển khoa học, công nghệ thực hiện theo cơ chế quỹ; Khuyến khích mua sắm công đối với các sản phẩm, hàng hoá là kết quả nghiên cứu khoa học do doanh nghiệp trong nước tạo ra; Nghiên cứu, tiếp cận, mua các bí mật công nghệ, học hỏi, sao chép các công nghệ tiên tiến của nước ngoài. | W3: 16. Tăng cường đầu tư, hoàn thiện hạ tầng cho khoa học, công nghệ, đổi mới sáng tạo và chuyển đổi số quốc gia - Ban hành Chương trình phát triển công nghệ và công nghiệp chiến lược; Quỹ đầu tư phát triển công nghiệp chiến lược (quốc phòng, không gian, năng lượng, môi trường, công nghệ sinh học, trí tuệ nhân tạo, vật liệu tiên tiến, bán dẫn, công nghệ lượng tử, robot và tự động hoá…); Nghiên cứu, phát triển, ứng dụng, chuyển giao công nghệ chiến lược; It nhất 15% ngân sách sự nghiệp khoa học chi phục vụ nghiên cứu công nghệ chiến lược; Hợp tác công tư về công nghệ chiến lược. - Ban hành các chiến lược nghiên cứu, ứng dụng khoa học, công nghệ khai thác, phát triển không gian: biển, ngầm, vũ trụ. Phát triển hạ tầng, bảo đảm an ninh năng lượng; Quản lý, khai thác, sử dụng hiệu quả tài nguyên khoáng sản - Phát triển các trung tâm nghiên cứu, thử nghiệm, phòng thí nghiệm cho công nghệ chiến lược và khoa học, công nghệ. - Ứng dụng, phát triển công nghệ số; Đầu tư, mua, thuê sản phẩm, dịch vụ số, đào tạo, phát triển, thu hút tổ chức, cá nhân, doanh nghiệp hoạt động chuyển đổi số, phát triển sản phẩm công nghệ số, công nghiệp an ninh mạng; Xây dựng, dùng chung các nền tảng số quốc gia, vùng; Thúc đẩy hệ sinh thái kinh tế số - Hợp tác công tư về hạ tầng số; Phát triển hạ tầng viễn thông, Internet, truyền dẫn dữ liệu vệ tinh, mạng cáp quang, mạng di động; Phát triển hạ tầng vật lý số, hạ tầng tiện ích số; tích hợp cảm biến, ứng dụng công nghệ số. Phát triển ngành công nghiệp IoT - Đầu tư, xây dựng trung tâm dữ liệu, điện toán; Doanh nghiệp nước ngoài đặt trung tâm dữ liệu, điện toán tại Việt Nam; Hình thành hạ tầng lưu trữ, tính toán đạt tiêu chuẩn; Hoàn thành, phát huy Trung tâm dữ liệu quốc gia; vùng; Xây dựng dữ liệu quốc gia, bộ, ngành, địa phương. Dữ liệu thành nguồn tài nguyên tư liệu sản xuất; Xác lập quyền sở hữu, kinh doanh dữ liệu và phân phối giá trị từ dữ liệu; Phát triển kinh tế dữ liệu, thị trường dữ liệu và các sàn giao dịch dữ liệu; Xây dựng các cơ sở dữ liệu lớn có chủ quyền của Việt Nam; Hình thành ngành công nghiệp dữ liệu lớn của Việt Nam. Phát triển ứng dụng trí tuệ nhân tạo dựa trên dữ liệu lớn | X3: 17. Phát triển, trọng dụng nhân lực chất lượng cao, nhân tài đáp ứng yêu cầu phát triển khoa học, công nghệ, đổi mới sáng tạo và chuyển đổi số quốc gia - Đầu tư, đổi mới, nâng cao chất lượng giáo dục, đào tạo, bảo đảm nguồn nhân lực chất lượng cao; Có cơ chế, chính sách hấp dẫn thu hút học sinh, sinh viên giỏi theo học toán học, vật lý, sinh học, hoá học, kỹ thuật và công nghệ then chốt; Xây dựng, triển khai các chương trình đào tạo tài năng; Ban hành cơ chế thu hút người Việt Nam ở nước ngoài, người nước ngoài có trình độ cao về Việt Nam làm việc, sinh sống. Có cơ chế nhập quốc tịch, sở hữu nhà, đất, thu nhập, môi trường làm việc nhằm thu hút, trọng dụng, giữ chân các nhà khoa học đầu ngành, các chuyên gia, các "tổng công trình sư" trong và ngoài nước có khả năng tổ chức, điều hành, chỉ huy, triển khai các nhiệm vụ trọng điểm quốc gia về khoa học và công nghệ, đổi mới sáng tạo, chuyển đổi số, phát triển công nghệ trí tuệ nhân tạo và đào tạo nguồn nhân lực. Xây dựng, kết nối, phát triển mạng lưới chuyên gia, nhà khoa học trong nước, quốc tế. - Xây dựng trường, trung tâm đào tạo tiên tiến chuyên sâu về trí tuệ nhân tạo. Có cơ chế hợp tác công tư đào tạo nhân lực công nghệ số; Xây dựng nền tảng giáo dục, đào tạo trực tuyến, mô hình giáo dục đại học số, nâng cao năng lực số trong xã hội. - Phát triển đội ngũ giảng viên, các nhà khoa học đáp ứng việc giảng dạy lĩnh vực khoa học cơ bản, công nghệ chip bán dẫn, vi mạch, kỹ thuật, công nghệ then chốt; hợp tác với các đại học nước ngoài; đổi mới chương trình đào tạo theo chuẩn quốc tế, hiện đại hoá phương thức đào tạo và ứng dụng công nghệ tiên tiến, nhất là trí tuệ nhân tạo. | Y3: 18. Đẩy mạnh chuyển đổi số, ứng dụng khoa học, công nghệ, đổi mới sáng tạo trong hoạt động của các cơ quan trong hệ thống chính trị; nâng cao hiệu quả quản trị quốc gia, hiệu lực quản lý nhà nước trên các lĩnh vực, bảo đảm quốc phòng và an ninh - Đưa hoạt động của các cơ quan hệ thống chính trị lên môi trường số; Xây dựng nền tảng số dùng chung quốc gia, phát triển hệ thống giám sát, điều hành thông minh quản lý công; Đổi mới giải quyết thủ tục hành chính, cung cấp dịch vụ công không phụ thuộc địa giới hành chính; nâng cao chất lượng dịch vụ công trực tuyến, dịch vụ số, cung cấp dịch vụ công trực tuyến toàn trình, cá nhân hoá và dựa trên dữ liệu; giám sát, đánh giá và trách nhiệm giải trình của cơ quan nhà nước, người có thẩm quyền. Thu hút, tuyển dụng, giữ chân nhân lực khoa học, công nghệ, chuyển đổi số. - Phát triển các nền tảng số an toàn và tăng cường ứng dụng công nghệ số, hình thành công dân số; Phát triển mạng xã hội Việt Nam, xây dựng xã hội số an toàn, lành mạnh; Phát triển văn hoá số, xây dựng bộ quy tắc ứng xử trên không gian mạng, giảm thiểu tác động tiêu cực của công nghệ số; Xây dựng nền tảng số nhằm giám sát, thu thập dữ liệu tài nguyên, môi trường. - Bảo đảm an toàn, an ninh mạng và chủ quyền quốc gia trên nền tảng số và không gian mạng; an ninh, an toàn dữ liệu hợp pháp của tổ chức, cá nhân, doanh nghiệp và chủ quyền an ninh dữ liệu quốc gia. Hiện đại hoá vũ khí, trang bị kỹ thuật quân sự, an ninh. Ứng dụng công nghệ số trong chỉ huy, điều hành tác chiến vũ trang, làm chủ công nghệ cao trong quốc phòng, an ninh; Ngăn chặn tội phạm; Xây dựng, phát huy sức mạnh thế trận chiến tranh nhân dân, thế trận lòng dân. | Z3: 19. Thúc đẩy mạnh mẽ hoạt động khoa học, công nghệ, đổi mới sáng tạo và chuyển đổi số trong doanh nghiệp - Có các chính sách ưu đãi, khuyến khích doanh nghiệp đầu tư cho chuyển đổi số, nghiên cứu, ứng dụng khoa học, đổi mới công nghệ; Chuyển giao tri thức, đào tạo nhân lực khoa học, công nghệ, đổi mới sáng tạo thông qua doanh nghiệp có vốn đầu tư trực tiếp nước ngoài (FDI); Hỗ trợ doanh nghiệp công nghệ trong nước đầu tư ra nước ngoài. - Có chính sách khuyến khích tinh thần khởi nghiệp về khoa học, công nghệ, đổi mới sáng tạo và chuyển đổi số, chính sách hỗ trợ khởi nghiệp, thu hút các doanh nghiệp trong và ngoài nước khởi nghiệp tại Việt Nam. - Có cơ chế, chính sách hỗ trợ hình thành và phát triển một số doanh nghiệp công nghệ số chiến lược trong nước quy mô lớn để phát triển hạ tầng số, dẫn dắt chuyển đổi số quốc gia và đủ năng lực cạnh tranh quốc tế; cơ chế đặt hàng, giao nhiệm vụ cho các doanh nghiệp công nghệ số thực hiện các nhiệm vụ trọng điểm về chuyển đổi số; cơ chế ưu đãi về đất đai, tín dụng, thuế trong nghiên cứu, thử nghiệm, ứng dụng, phát triển, sản xuất sản phẩm, dịch vụ công nghệ số. Phát triển một số khu công nghiệp công nghệ số. Thúc đẩy doanh nghiệp tái đầu tư hạ tầng, đầu tư nghiên cứu và phát triển (R&D). - Tiêu dùng sản phẩm, dịch vụ trên môi trường số, bảo đảm kinh tế số các ngành, lĩnh vực đạt 70% kinh tế số; đẩy mạnh sản xuất thông minh trong: Nông nghiệp, thương mại, tài chính, giáo dục, y tế, giao thông, logistics. | AA3: 20. Tăng cường hợp tác quốc tế trong phát triển khoa học, công nghệ, đổi mới sáng tạo và chuyển đổi số Hợp tác nghiên cứu khoa học, phát triển công nghệ với các quốc gia có trình độ khoa học và công nghệ, chuyển đổi số phát triển, nhất là các lĩnh vực trí tuệ nhân tạo, công nghệ sinh học, công nghệ lượng tử, bán dẫn, năng lượng nguyên tử và các công nghệ chiến lược khác. Có chính sách mua, chuyển giao công nghệ tiên tiến. Tham gia xây dựng các quy tắc, tiêu chuẩn quốc tế về các công nghệ mới bảo đảm an toàn và cùng có lợi. Thúc đẩy nâng cao năng lực và chuyển giao công nghệ trong các thoả thuận quốc tế, điều ước quốc tế mà Việt Nam là thành viên tham gia. | AB3: Count All
A4: 1 | C4: Triết học Mác Lênin | D4: Kỳ 1 | E4: Giáo dục Đại cương | F4: 3 | G4: Bắt buộc | H4: Đáp ứng tốt cho tiêu chí với các kiến thức như: Các kiến thức khoa học triết học giúp phát triển nhanh lực lượng sản xuất hiện đại, hoàn thiện quan hệ sản xuất | I4: Đáp ứng tốt cho tiêu chí với các kiến thức như: Mối quan hệ giữa giai cấp – dân tộc – nhân loại đóng góp cho toàn bộ tiêu chí | J4: Đáp ứng tốt cho tiêu chí với các kiến thức như: Mối quan hệ biện chứng giữa tồn tại xã hội và ý thức xã hội đóng góp cho kiến thức về thể chế | M4: Đáp ứng tốt cho tiêu chí với các kiến thức như: Các kiến thức khoa học triết học đóng góp cho tiềm lực, trình độ khoa học, công nghệ và đổi mới sáng tạo | R4: Đáp ứng tốt cho tiêu chí với các kiến thức như: Các kiến thức khoa học triết học | V4: Đáp ứng tốt cho tiêu chí với các kiến thức như: Nội dung môn học đóng góp vào phát triển khoa học và công nghệ, đổi mới sáng tạo, chuyển đổi số | X4: Đáp ứng tốt cho tiêu chí với các kiến thức như: Đóng góp chung vào nội dung phát triển, trọng dụng nhân lực chất lượng cao, nhân tài đáp ứng yêu cầu phát triển khoa học, công nghệ, đổi mới sáng tạo và chuyển đổi số | AB4: =COUNTA(H4:AA4) -> 7
A5: 2 | C5: Giải tích 1 | D5: Kỳ 1 | E5: Giáo dục Đại cương | F5: 3 | G5: Bắt buộc | H5: Đáp ứng tốt cho tiêu chí với các kiến thức như: Các kiến thức khoa học cơ bản về giải tích góp phần phát triển khoa học, công nghệ, đổi mới sáng tạo và chuyển đổi số | K5: Đáp ứng tốt cho tiêu chí với các kiến thức như: Các kiến thức khoa học cơ bản về giải tích đóng góp cho nghiên cứu cơ bản và ứng dụng | M5: Đáp ứng tốt cho tiêu chí với các kiến thức như: Các kiến thức khoa học cơ bản về giải tích đóng góp cho tiềm lực, trình độ khoa học, công nghệ và đổi mới sáng tạo | R5: Đáp ứng tốt cho tiêu chí với các kiến thức như: Các kiến thức khoa học cơ bản về giải tích | V5: Đáp ứng tốt cho tiêu chí với các kiến thức như: Nội dung môn học đóng góp vào phát triển khoa học và công nghệ, đổi mới sáng tạo, chuyển đổi số | X5: Đáp ứng tốt cho tiêu chí với các kiến thức như: Đóng góp chung vào nội dung phát triển, trọng dụng nhân lực chất lượng cao, nhân tài đáp ứng yêu cầu phát triển khoa học, công nghệ, đổi mới sáng tạo và chuyển đổi số | AB5: =COUNTA(H5:AA5) -> 6
A6: 3 | C6: Tin học cơ sở 1 | D6: Kỳ 1 | E6: Giáo dục Đại cương | F6: 2 | G6: Bắt buộc | H6: Đáp ứng tốt cho tiêu chí với các kiến thức như: Các kiến thức cơ sở về điện toán giúp phát triển khoa học, công nghệ, đổi mới sáng tạo và chuyển đổi số | K6: Đáp ứng tốt cho tiêu chí với các kiến thức như: Đóng góp cho nghiên cứu ứng dụng | L6: Đáp ứng tốt cho tiêu chí với các kiến thức như: Virus máy tính và phương pháp phòng chống | M6: Đáp ứng tốt cho tiêu chí với các kiến thức như: Các kiến thức cơ sở về điện toán đóng góp cho năng lực cạnh tranh số và chỉ số phát triển Chính phủ điện tử | Q6: Đáp ứng tốt cho tiêu chí với các kiến thức như: Nội dung môn học đóng góp vào phát triển Chính phủ số, kinh tế số, xã hội số, công dân số, công nghiệp văn hoá số | R6: Đáp ứng tốt cho tiêu chí với các kiến thức như: Các kiến thức cơ sở về điện toán | V6: Đáp ứng tốt cho tiêu chí với các kiến thức như: Nội dung môn học đóng góp vào phát triển khoa học và công nghệ, đổi mới sáng tạo, chuyển đổi số | X6: Đáp ứng tốt cho tiêu chí với các kiến thức như: Đóng góp chung vào nội dung phát triển, trọng dụng nhân lực chất lượng cao, nhân tài đáp ứng yêu cầu phát triển khoa học, công nghệ, đổi mới sáng tạo và chuyển đổi số | Y6: Đáp ứng tốt cho tiêu chí với các kiến thức như: Đóng góp chung vào nội dung đẩy mạnh chuyển đổi số, hình thành công dân số, phát triển văn hóa số. | AB6: =COUNTA(H6:AA6) -> 9
A7: 4 | C7: Đại số | D7: Kỳ 1 | E7: Giáo dục Đại cương | F7: 3 | G7: Bắt buộc | H7: Đáp ứng tốt cho tiêu chí với các kiến thức như: Các kiến thức cơ bản về đại số làm nền tảng phát triển khoa học, công nghệ, đổi mới sáng tạo và chuyển đổi số | K7: Đáp ứng tốt cho tiêu chí với các kiến thức như: Các kiến thức cơ bản về đại số đóng góp cho nghiên cứu cơ bản và ứng dụng | M7: Đáp ứng tốt cho tiêu chí với các kiến thức như: Các kiến thức cơ bản về đại số đóng góp cho tiềm lực, trình độ khoa học, công nghệ và đổi mới sáng tạo | R7: Đáp ứng tốt cho tiêu chí với các kiến thức như: Các kiến thức cơ bản về đại số | V7: Đáp ứng tốt cho tiêu chí với các kiến thức như: Nội dung môn học đóng góp vào phát triển khoa học và công nghệ, đổi mới sáng tạo, chuyển đổi số | X7: Đáp ứng tốt cho tiêu chí với các kiến thức như: Đóng góp chung vào nội dung phát triển, trọng dụng nhân lực chất lượng cao, nhân tài đáp ứng yêu cầu phát triển khoa học, công nghệ, đổi mới sáng tạo và chuyển đổi số | AB7: =COUNTA(H7:AA7) -> 6
A8: 5 | C8: Giáo dục thể chất 1 | D8: Kỳ 1 | E8: Giáo dục Đại cương | G8: Bắt buộc | H8: Đáp ứng tốt cho tiêu chí với các kiến thức như: Các kiến thức khoa học giáo dục thể chất góp phần phát triển nhanh lực lượng sản xuất hiện đại | M8: Đáp ứng tốt cho tiêu chí với các kiến thức như: Các kiến thức khoa học giáo dục thể chất đóng góp cho tiềm lực, trình độ khoa học, công nghệ và đổi mới sáng tạo | R8: Đáp ứng tốt cho tiêu chí với các kiến thức như: Các kiến thức khoa học giáo dục thể chất | X8: Đáp ứng tốt cho tiêu chí với các kiến thức như: Đóng góp chung vào nội dung phát triển, trọng dụng nhân lực chất lượng cao, nhân tài đáp ứng yêu cầu phát triển khoa học, công nghệ, đổi mới sáng tạo và chuyển đổi số | AB8: =COUNTA(H8:AA8) -> 4
A9: 6 | C9: Giáo dục quốc phòng | D9: Kỳ 1 | E9: Giáo dục Đại cương | G9: Bắt buộc | H9: Đáp ứng tốt cho tiêu chí với các kiến thức như: Các kiến thức giáo dục quốc phòng góp phần đổi mới phương thức quản trị quốc gia | I9: Đáp ứng tốt cho tiêu chí với các kiến thức như: Công tác quốc phòng, an ninh, lực lượng vũ trang đóng góp vào tăng cường sự lãnh đạo toàn diện của Đảng, phát huy sức mạnh tổng hợp của cả hệ thống chính trị | R9: Đáp ứng tốt cho tiêu chí với các kiến thức như: Các kiến thức giáo dục quốc phòng | X9: Đáp ứng tốt cho tiêu chí với các kiến thức như: Đóng góp chung vào nội dung phát triển, trọng dụng nhân lực chất lượng cao, nhân tài đáp ứng yêu cầu phát triển khoa học, công nghệ, đổi mới sáng tạo và chuyển đổi số | AB9: =COUNTA(H9:AA9) -> 4
A10: 7 | C10: Kinh tế chính trị Mác Lênin | D10: Kỳ 2 | E10: Giáo dục Đại cương | F10: 2 | G10: Bắt buộc | H10: Đáp ứng tốt cho tiêu chí với các kiến thức như: Các kiến thức cơ bản về kinh tế chính trị góp phần phát triển nhanh lực lượng sản xuất hiện đại, hoàn thiện quan hệ sản xuất, đổi mới phương thức quản trị quốc gia | I10: Đáp ứng tốt cho tiêu chí với các kiến thức như: Vai trò của các chủ thể tham gia thị trường đóng góp cho yêu cầu cách mạng sâu sắc, toàn diện trên tất cả các lĩnh vực; người dân và doanh nghiệp là trung tâm, là chủ thể, nguồn lực, động lực chính; nhà khoa học là nhân tố then chốt; Nhà nước giữ vai trò dẫn dắt, thúc đẩy. | J10: Đáp ứng tốt cho tiêu chí với các kiến thức như: Hoàn thiện thể chế kinh tế thị trường định hướng XHCN ở Việt Nam đóng góp cho kiến thức về thể chế | M10: Đáp ứng tốt cho tiêu chí với các kiến thức như: Các kiến thức cơ bản về kinh tế chính trị đóng góp vào tiềm lực, trình độ khoa học, công nghệ và đổi mới sáng tạo | R10: Đáp ứng tốt cho tiêu chí với các kiến thức như: Các kiến thức cơ bản về kinh tế chính trị | V10: Đáp ứng tốt cho tiêu chí với các kiến thức như: Nội dung môn học đóng góp vào hoàn thiện thể chế, phát triển khoa học và công nghệ, đổi mới sáng tạo, chuyển đổi số | X10: Đáp ứng tốt cho tiêu chí với các kiến thức như: Đóng góp chung vào nội dung phát triển, trọng dụng nhân lực chất lượng cao, nhân tài đáp ứng yêu cầu phát triển khoa học, công nghệ, đổi mới sáng tạo và chuyển đổi số | AB10: =COUNTA(H10:AA10) -> 7
A11: 8 | C11: Tiếng Anh (Course 1) | D11: Kỳ 2 | E11: Giáo dục Đại cương | F11: 4 | G11: Bắt buộc | H11: Đáp ứng tốt cho tiêu chí với các kiến thức như: Các kiến thức ngoại ngữ, ngôn ngữ học góp phần phát triển nhanh lực lượng sản xuất hiện đại | R11: Đáp ứng tốt cho tiêu chí với các kiến thức như: Các kiến thức ngoại ngữ, ngôn ngữ học | X11: Đáp ứng tốt cho tiêu chí với các kiến thức như: Đóng góp chung vào nội dung phát triển, trọng dụng nhân lực chất lượng cao, nhân tài đáp ứng yêu cầu phát triển khoa học, công nghệ, đổi mới sáng tạo và chuyển đổi số | AB11: =COUNTA(H11:AA11) -> 3
A12: 9 | C12: Giải tích 2 | D12: Kỳ 2 | E12: Giáo dục Đại cương | F12: 3 | G12: Bắt buộc | H12: Đáp ứng tốt cho tiêu chí với các kiến thức như: Kiến thức khoa học cơ bản toán học giải tích góp phần phát triển khoa học, công nghệ, đổi mới sáng tạo và chuyển đổi số | K12: Đáp ứng tốt cho tiêu chí với các kiến thức như: Kiến thức khoa học cơ bản toán học giải tích đóng góp cho nghiên cứu cơ bản và ứng dụng | M12: Đáp ứng tốt cho tiêu chí với các kiến thức như: Kiến thức khoa học cơ bản toán học giải tích đóng góp vào tiềm lực, trình độ khoa học, công nghệ và đổi mới sáng tạo | R12: Đáp ứng tốt cho tiêu chí với các kiến thức như: Kiến thức khoa học cơ bản toán học giải tích | V12: Đáp ứng tốt cho tiêu chí với các kiến thức như: Nội dung môn học đóng góp vào phát triển khoa học và công nghệ, đổi mới sáng tạo, chuyển đổi số | X12: Đáp ứng tốt cho tiêu chí với các kiến thức như: Đóng góp chung vào nội dung phát triển, trọng dụng nhân lực chất lượng cao, nhân tài đáp ứng yêu cầu phát triển khoa học, công nghệ, đổi mới sáng tạo và chuyển đổi số | AB12: =COUNTA(H12:AA12) -> 6
A13: 10 | C13: Vật lý ứng dụng | D13: Kỳ 2 | E13: Giáo dục Đại cương | F13: 4 | G13: Bắt buộc | H13: Đáp ứng tốt cho tiêu chí với các kiến thức như: Kiến thức cơ bản về vật lý ứng dụng góp phần phát triển khoa học, công nghệ, đổi mới sáng tạo | K13: Đáp ứng tốt cho tiêu chí với các kiến thức như: Kiến thức cơ bản về vật lý ứng dụng đóng góp cho cả nghiên cứu cơ bản và ứng dụng | M13: Đáp ứng tốt cho tiêu chí với các kiến thức như: Kiến thức cơ bản về vật lý ứng dụng đóng góp vào tiềm lực, trình độ khoa học, công nghệ và đổi mới sáng tạo | R13: Đáp ứng tốt cho tiêu chí với các kiến thức như: Kiến thức cơ bản về vật lý ứng dụng | V13: Đáp ứng tốt cho tiêu chí với các kiến thức như: Nội dung môn học đóng góp vào phát triển khoa học và công nghệ, đổi mới sáng tạo, chuyển đổi số | X13: Đáp ứng tốt cho tiêu chí với các kiến thức như: Đóng góp chung vào nội dung phát triển, trọng dụng nhân lực chất lượng cao, nhân tài đáp ứng yêu cầu phát triển khoa học, công nghệ, đổi mới sáng tạo và chuyển đổi số | AB13: =COUNTA(H13:AA13) -> 6
A14: 11 | B14: INT1155 | C14: Tin học cơ sở 2 | D14: Kỳ 2 | E14: Giáo dục Đại cương | F14: 2 | G14: Bắt buộc | H14: Đáp ứng tốt cho tiêu chí với các kiến thức như: Giới thiệu ngôn ngữ lập trình làm nền tảng phát triển khoa học, công nghệ, đổi mới sáng tạo và chuyển đổi số | K14: Đáp ứng tốt cho tiêu chí với các kiến thức như: Cơ bản về lập trình đóng góp cho nghiên cứu ứng dụng | M14: Đáp ứng tốt cho tiêu chí với các kiến thức như: Cơ bản về lập trình đóng góp vào phát triển một số ngành, lĩnh vực công nghiệp công nghệ số mà Việt Nam có lợi thế | R14: Đáp ứng tốt cho tiêu chí với các kiến thức như: Cơ bản về lập trình | V14: Đáp ứng tốt cho tiêu chí với các kiến thức như: Nội dung môn học đóng góp vào phát triển khoa học và công nghệ, đổi mới sáng tạo, chuyển đổi số | X14: Đáp ứng tốt cho tiêu chí với các kiến thức như: Đóng góp chung vào nội dung phát triển, trọng dụng nhân lực chất lượng cao, nhân tài đáp ứng yêu cầu phát triển khoa học, công nghệ, đổi mới sáng tạo và chuyển đổi số | Y14: Đáp ứng tốt cho tiêu chí với các kiến thức như: Đóng góp chung vào nội dung đẩy mạnh chuyển đổi số, hình thành công dân số, phát triển văn hóa số. | AB14: =COUNTA(H14:AA14) -> 7
A15: 12 | C15: Kỹ thuật số | D15: Kỳ 2 | E15: Giáo dục Đại cương | F15: 2 | G15: Bắt buộc | H15: Đáp ứng tốt cho tiêu chí với các kiến thức như: Kiến thức cơ bản về kỹ thuật số góp phần phát triển khoa học, công nghệ, đổi mới sáng tạo và chuyển đổi số | K15: Đáp ứng tốt cho tiêu chí với các kiến thức như: Các kiến thức khoa học cơ bản và ứng dụng | M15: Đáp ứng tốt cho tiêu chí với các kiến thức như: Kiến thức cơ bản về kỹ thuật số đóng góp vào tiềm lực, trình độ khoa học, công nghệ và đổi mới sáng tạo | R15: Đáp ứng tốt cho tiêu chí với các kiến thức như: Kiến thức cơ bản về kỹ thuật số | V15: Đáp ứng tốt cho tiêu chí với các kiến thức như: Nội dung môn học đóng góp vào phát triển khoa học và công nghệ, đổi mới sáng tạo, chuyển đổi số | X15: Đáp ứng tốt cho tiêu chí với các kiến thức như: Đóng góp chung vào nội dung phát triển, trọng dụng nhân lực chất lượng cao, nhân tài đáp ứng yêu cầu phát triển khoa học, công nghệ, đổi mới sáng tạo và chuyển đổi số | Y15: Đáp ứng tốt cho tiêu chí với các kiến thức như: Đóng góp chung vào nội dung đẩy mạnh chuyển đổi số, hình thành công dân số, phát triển văn hóa số. | AB15: =COUNTA(H15:AA15) -> 7
A16: 13 | C16: Pháp luật đại cương | D16: Kỳ 2 | E16: Giáo dục Đại cương | F16: 2 | G16: Bắt buộc | H16: Đáp ứng tốt cho tiêu chí với các kiến thức như: Kiến thức cơ bản về pháp luật góp phần phát triển nhanh lực lượng sản xuất hiện đại, hoàn thiện quan hệ sản xuất, đổi mới phương thức quản trị quốc gia | J16: Đáp ứng tốt cho tiêu chí với các kiến thức như: Thể chế, hệ thống pháp luật đóng góp cho kiến thức về thể chế, tư duy xây dựng pháp luật | R16: Đáp ứng tốt cho tiêu chí với các kiến thức như: Kiến thức cơ bản về pháp luật | V16: Đáp ứng tốt cho tiêu chí với các kiến thức như: Nội dung môn học đóng góp vào hoàn thiện các quy định của pháp luật | X16: Đáp ứng tốt cho tiêu chí với các kiến thức như: Đóng góp chung vào nội dung phát triển, trọng dụng nhân lực chất lượng cao, nhân tài đáp ứng yêu cầu phát triển khoa học, công nghệ, đổi mới sáng tạo và chuyển đổi số | AB16: =COUNTA(H16:AA16) -> 5
A17: 14 | C17: Giáo dục thể chất 2 | D17: Kỳ 2 | E17: Giáo dục Đại cương | G17: Bắt buộc | H17: Đáp ứng tốt cho tiêu chí với các kiến thức như: Các kiến thức khoa học giáo dục thể chất góp phần phát triển nhanh lực lượng sản xuất hiện đại | M17: Đáp ứng tốt cho tiêu chí với các kiến thức như: Các kiến thức khoa học giáo dục thể chất đóng góp vào tiềm lực, trình độ khoa học, công nghệ và đổi mới sáng tạo | R17: Đáp ứng tốt cho tiêu chí với các kiến thức như: Các kiến thức khoa học giáo dục thể chất | X17: Đáp ứng tốt cho tiêu chí với các kiến thức như: Đóng góp chung vào nội dung phát triển, trọng dụng nhân lực chất lượng cao, nhân tài đáp ứng yêu cầu phát triển khoa học, công nghệ, đổi mới sáng tạo và chuyển đổi số | AB17: =COUNTA(H17:AA17) -> 4
C18: Chủ nghĩa xã hội khoa học | D18: Kỳ 3 | E18: Giáo dục Đại cương | F18: 2 | G18: Bắt buộc | H18: Đáp ứng tốt cho tiêu chí với các kiến thức như: Các kiến thức cơ bản về chủ nghĩa xã hội khoa học góp phần hoàn thiện quan hệ sản xuất, đổi mới phương thức quản trị quốc gia | I18: Đáp ứng tốt cho tiêu chí với các kiến thức như: Lý luận quan hệ giai cấp v.v. đóng góp cho toàn bộ tiêu chí | J18: Đáp ứng tốt cho tiêu chí với các kiến thức như: Phương hướng xây dựng chủ nghĩa xã hội ở Việt Nam hiện nay đóng góp cho kiến thức về thể chế | M18: Đáp ứng tốt cho tiêu chí với các kiến thức như: Các kiến thức cơ bản về chủ nghĩa xã hội khoa học đóng góp vào tiềm lực, trình độ khoa học, công nghệ và đổi mới sáng tạo | R18: Đáp ứng tốt cho tiêu chí với các kiến thức như: Các kiến thức cơ bản về chủ nghĩa xã hội khoa học | V18: Đáp ứng tốt cho tiêu chí với các kiến thức như: Nội dung môn học đóng góp vào hoàn thiện thể chế, phát triển khoa học và công nghệ, đổi mới sáng tạo, chuyển đổi số | X18: Đáp ứng tốt cho tiêu chí với các kiến thức như: Đóng góp chung vào nội dung phát triển, trọng dụng nhân lực chất lượng cao, nhân tài đáp ứng yêu cầu phát triển khoa học, công nghệ, đổi mới sáng tạo và chuyển đổi số | AB18: =COUNTA(H18:AA18) -> 7
C19: Tiếng Anh (Course 2) | D19: Kỳ 3 | E19: Giáo dục Đại cương | F19: 4 | G19: Bắt buộc | H19: Đáp ứng tốt cho tiêu chí với các kiến thức như: Các kiến thức ngoại ngữ, ngôn ngữ học góp phần phát triển nhanh lực lượng sản xuất hiện đại | R19: Đáp ứng tốt cho tiêu chí với các kiến thức như: Các kiến thức ngoại ngữ, ngôn ngữ học | X19: Đáp ứng tốt cho tiêu chí với các kiến thức như: Đóng góp chung vào nội dung phát triển, trọng dụng nhân lực chất lượng cao, nhân tài đáp ứng yêu cầu phát triển khoa học, công nghệ, đổi mới sáng tạo và chuyển đổi số | AB19: =COUNTA(H19:AA19) -> 3
A20: 15 | B20: INT1358 | C20: Toán rời rạc 1 | D20: Kỳ 3 | E20: Cơ sở ngành | F20: 3 | G20: Bắt buộc | H20: Đáp ứng tốt cho tiêu chí với các kiến thức như: Kiến thức cơ bản về toán rời rạc góp phần phát triển khoa học, công nghệ, đổi mới sáng tạo và chuyển đổi số | K20: Đáp ứng tốt cho tiêu chí với các kiến thức như: Các kiến thức khoa học cơ bản và ứng dụng | M20: Đáp ứng tốt cho tiêu chí với các kiến thức như: Kiến thức cơ bản về toán rời rạc đóng góp vào tiềm lực, trình độ khoa học, công nghệ và đổi mới sáng tạo | R20: Đáp ứng tốt cho tiêu chí với các kiến thức như: Kiến thức cơ bản về toán rời rạc | V20: Đáp ứng tốt cho tiêu chí với các kiến thức như: Nội dung môn học đóng góp vào phát triển khoa học và công nghệ, đổi mới sáng tạo, chuyển đổi số | X20: Đáp ứng tốt cho tiêu chí với các kiến thức như: Đóng góp chung vào nội dung phát triển, trọng dụng nhân lực chất lượng cao, nhân tài đáp ứng yêu cầu phát triển khoa học, công nghệ, đổi mới sáng tạo và chuyển đổi số | Y20: Đáp ứng tốt cho tiêu chí với các kiến thức như: Đóng góp chung vào nội dung đẩy mạnh chuyển đổi số, hình thành công dân số, phát triển văn hóa số. | AB20: =COUNTA(H20:AA20) -> 7
A21: 16 | C21: Xác suất thống kê | D21: Kỳ 3 | E21: Giáo dục Đại cương | F21: 3 | G21: Bắt buộc | H21: Đáp ứng tốt cho tiêu chí với các kiến thức như: Các kiến thức cơ bản về xác suất thống kê góp phần phát triển khoa học, công nghệ, đổi mới sáng tạo | K21: Đáp ứng tốt cho tiêu chí với các kiến thức như: Các kiến thức khoa học cơ bản và ứng dụng | M21: Đáp ứng tốt cho tiêu chí với các kiến thức như: Các kiến thức cơ bản về xác suất thống kê đóng góp vào tiềm lực, trình độ khoa học, công nghệ và đổi mới sáng tạo | R21: Đáp ứng tốt cho tiêu chí với các kiến thức như: Kiến thức cơ bản về xác suất thống kê | V21: Đáp ứng tốt cho tiêu chí với các kiến thức như: Nội dung môn học đóng góp vào phát triển khoa học và công nghệ, đổi mới sáng tạo, chuyển đổi số | X21: Đáp ứng tốt cho tiêu chí với các kiến thức như: Đóng góp chung vào nội dung phát triển, trọng dụng nhân lực chất lượng cao, nhân tài đáp ứng yêu cầu phát triển khoa học, công nghệ, đổi mới sáng tạo và chuyển đổi số | AB21: =COUNTA(H21:AA21) -> 6
A22: 17 | B22: ELE1330 | C22: Xử lý tín hiệu số | D22: Kỳ 3 | E22: Cơ sở ngành | F22: 2 | G22: Bắt buộc | H22: Đáp ứng tốt cho tiêu chí với các kiến thức như: Các kiến thức cơ bản về xử lý tín hiệu số góp phần phát triển khoa học, công nghệ, đổi mới sáng tạo và chuyển đổi số | K22: Đáp ứng tốt cho tiêu chí với các kiến thức như: Các kiến thức khoa học cơ bản và ứng dụng | M22: Đáp ứng tốt cho tiêu chí với các kiến thức như: Các kiến thức cơ bản về xử lý tín hiệu số đóng góp vào tiềm lực, trình độ khoa học, công nghệ và đổi mới sáng tạo | R22: Đáp ứng tốt cho tiêu chí với các kiến thức như: Các kiến thức cơ bản về xử lý tín hiệu số | V22: Đáp ứng tốt cho tiêu chí với các kiến thức như: Nội dung môn học đóng góp vào phát triển khoa học và công nghệ, đổi mới sáng tạo, chuyển đổi số | X22: Đáp ứng tốt cho tiêu chí với các kiến thức như: Đóng góp chung vào nội dung phát triển, trọng dụng nhân lực chất lượng cao, nhân tài đáp ứng yêu cầu phát triển khoa học, công nghệ, đổi mới sáng tạo và chuyển đổi số | Y22: Đáp ứng tốt cho tiêu chí với các kiến thức như: Đóng góp chung vào nội dung đẩy mạnh chuyển đổi số, hình thành công dân số, phát triển văn hóa số. | AB22: =COUNTA(H22:AA22) -> 7
A23: 18 | B23: INT1339 | C23: Ngôn ngữ lập trình C++ | D23: Kỳ 3 | E23: Cơ sở ngành | F23: 3 | G23: Bắt buộc | H23: Đáp ứng tốt cho tiêu chí với các kiến thức như: Lập trình hướng đối tượng góp phần phát triển khoa học, công nghệ, đổi mới sáng tạo và chuyển đổi số | K23: Đáp ứng tốt cho tiêu chí với các kiến thức như: Các kiến thức về ứng dụng | M23: Đáp ứng tốt cho tiêu chí với các kiến thức như: Lập trình hướng đối tượng đóng góp vào phát triển một số ngành, lĩnh vực công nghiệp công nghệ số | R23: Đáp ứng tốt cho tiêu chí với các kiến thức như: Lập trình hướng đối tượng | V23: Đáp ứng tốt cho tiêu chí với các kiến thức như: Nội dung môn học đóng góp vào phát triển khoa học và công nghệ, đổi mới sáng tạo, chuyển đổi số | X23: Đáp ứng tốt cho tiêu chí với các kiến thức như: Đóng góp chung vào nội dung phát triển, trọng dụng nhân lực chất lượng cao, nhân tài đáp ứng yêu cầu phát triển khoa học, công nghệ, đổi mới sáng tạo và chuyển đổi số | Y23: Đáp ứng tốt cho tiêu chí với các kiến thức như: Đóng góp chung vào nội dung đẩy mạnh chuyển đổi số, hình thành công dân số, phát triển văn hóa số. | AB23: =COUNTA(H23:AA23) -> 7
A24: 19 | C24: Kỹ năng mềm 1 | D24: Kỳ 3 | E24: Giáo dục Đại cương | G24: Lựa chọn tự do | X24: Đáp ứng tốt cho tiêu chí với các kiến thức như: Đóng góp chung vào nội dung phát triển, trọng dụng nhân lực chất lượng cao, nhân tài đáp ứng yêu cầu phát triển khoa học, công nghệ, đổi mới sáng tạo và chuyển đổi số | AB24: =COUNTA(H24:AA24) -> 1
A25: 20 | C25: Tư tưởng Hồ Chí Minh | D25: Kỳ 4 | E25: Giáo dục Đại cương | F25: 2 | G25: Bắt buộc | H25: Đáp ứng tốt cho tiêu chí với các kiến thức như: Tư tưởng Hồ Chí Minh đóng góp cho toàn bộ tiêu chí | I25: Đáp ứng tốt cho tiêu chí với các kiến thức như: Tư tưởng Hồ Chí Minh về đại đoàn kết dân tộc v.v. đóng góp cho toàn bộ tiêu chí | J25: Đáp ứng tốt cho tiêu chí với các kiến thức như: Tư tưởng Hồ Chí Minh về đại đoàn kết dân tộc đóng góp cho kiến thức về thể chế, nhân lực | R25: Đáp ứng tốt cho tiêu chí với các kiến thức như: Tư tưởng Hồ Chí Minh | U25: Đáp ứng tốt cho tiêu chí với các kiến thức như: Môn học đóng góp chung cho nội dung nâng cao nhận thức, đột phá về đổi mới tư duy, xác định quyết tâm chính trị mạnh mẽ, quyết liệt lãnh đạo, chỉ đạo, tạo xung lực mới, khí thế mới trong toàn xã hội về phát triển khoa học, công nghệ, đổi mới sáng tạo và chuyển đổi số quốc gia | V25: Đáp ứng tốt cho tiêu chí với các kiến thức như: Nội dung môn học đóng góp vào hoàn thiện thể chế | X25: Đáp ứng tốt cho tiêu chí với các kiến thức như: Đóng góp chung vào nội dung phát triển, trọng dụng nhân lực chất lượng cao, nhân tài đáp ứng yêu cầu phát triển khoa học, công nghệ, đổi mới sáng tạo và chuyển đổi số | AB25: =COUNTA(H25:AA25) -> 7
A26: 21 | C26: Tiếng Anh (Course 3) | D26: Kỳ 4 | E26: Giáo dục Đại cương | F26: 4 | G26: Bắt buộc | H26: Đáp ứng tốt cho tiêu chí với các kiến thức như: Các kiến thức ngoại ngữ, ngôn ngữ học góp phần phát triển nhanh lực lượng sản xuất hiện đại | R26: Đáp ứng tốt cho tiêu chí với các kiến thức như: Các kiến thức ngoại ngữ, ngôn ngữ học | X26: Đáp ứng tốt cho tiêu chí với các kiến thức như: Đóng góp chung vào nội dung phát triển, trọng dụng nhân lực chất lượng cao, nhân tài đáp ứng yêu cầu phát triển khoa học, công nghệ, đổi mới sáng tạo và chuyển đổi số | AB26: =COUNTA(H26:AA26) -> 3
A27: 22 | B27: INT130145 | C27: Kiến trúc máy tính | D27: Kỳ 4 | E27: Cơ sở ngành | F27: 3 | G27: Bắt buộc | H27: Đáp ứng tốt cho tiêu chí với các kiến thức như: Kiến thức cơ bản về kiến trúc và tổ chức máy tính đóng góp cho việc phát triển khoa học, công nghệ, đổi mới sáng tạo và chuyển đổi số | K27: Đáp ứng tốt cho tiêu chí với các kiến thức như: Các kiến thức khoa học cơ bản và ứng dụng | M27: Đáp ứng tốt cho tiêu chí với các kiến thức như: Kiến thức cơ bản về kiến trúc và tổ chức máy tính đóng góp vào năng lực cạnh tranh số và chỉ số phát triển Chính phủ điện tử | R27: Đáp ứng tốt cho tiêu chí với các kiến thức như: Kiến thức cơ bản về kiến trúc và tổ chức máy tính | V27: Đáp ứng tốt cho tiêu chí với các kiến thức như: Nội dung môn học đóng góp vào phát triển khoa học và công nghệ, đổi mới sáng tạo, chuyển đổi số | X27: Đáp ứng tốt cho tiêu chí với các kiến thức như: Đóng góp chung vào nội dung phát triển, trọng dụng nhân lực chất lượng cao, nhân tài đáp ứng yêu cầu phát triển khoa học, công nghệ, đổi mới sáng tạo và chuyển đổi số | Y27: Đáp ứng tốt cho tiêu chí với các kiến thức như: Đóng góp chung vào nội dung đẩy mạnh chuyển đổi số, hình thành công dân số, phát triển văn hóa số. | AB27: =COUNTA(H27:AA27) -> 7
A28: 23 | B28: INT1359 | C28: Toán rời rạc 2 | D28: Kỳ 4 | E28: Cơ sở ngành | F28: 3 | G28: Bắt buộc | H28: Đáp ứng tốt cho tiêu chí với các kiến thức như: Các kiến thức về lý thuyết đồ thị đóng góp cho việc phát triển khoa học, công nghệ, đổi mới sáng tạo và chuyển đổi số | K28: Đáp ứng tốt cho tiêu chí với các kiến thức như: Các kiến thức khoa học cơ bản và ứng dụng | M28: Đáp ứng tốt cho tiêu chí với các kiến thức như: Các kiến thức về lý thuyết đồ thị đóng góp vào tiềm lực, trình độ khoa học, công nghệ và đổi mới sáng tạo | R28: Đáp ứng tốt cho tiêu chí với các kiến thức như: Các kiến thức về lý thuyết đồ thị | V28: Đáp ứng tốt cho tiêu chí với các kiến thức như: Nội dung môn học đóng góp vào phát triển khoa học và công nghệ, đổi mới sáng tạo, chuyển đổi số | X28: Đáp ứng tốt cho tiêu chí với các kiến thức như: Đóng góp chung vào nội dung phát triển, trọng dụng nhân lực chất lượng cao, nhân tài đáp ứng yêu cầu phát triển khoa học, công nghệ, đổi mới sáng tạo và chuyển đổi số | Y28: Đáp ứng tốt cho tiêu chí với các kiến thức như: Đóng góp chung vào nội dung đẩy mạnh chuyển đổi số, hình thành công dân số, phát triển văn hóa số. | AB28: =COUNTA(H28:AA28) -> 7
A29: 24 | B29: INT1306 | C29: Cấu trúc dữ liệu và giải thuật | D29: Kỳ 4 | E29: Cơ sở ngành | F29: 3 | G29: Bắt buộc | H29: Đáp ứng tốt cho tiêu chí với các kiến thức như: Kiến thức cấu trúc dữ liệu và giải thuật đóng góp cho việc phát triển khoa học, công nghệ, đổi mới sáng tạo và chuyển đổi số | K29: Đáp ứng tốt cho tiêu chí với các kiến thức như: Các kiến thức khoa học về ứng dụng | M29: Đáp ứng tốt cho tiêu chí với các kiến thức như: Kiến thức cấu trúc dữ liệu và giải thuật đóng góp vào phát triển một số ngành, lĩnh vực công nghiệp công nghệ số | R29: Đáp ứng tốt cho tiêu chí với các kiến thức như: Kiến thức cấu trúc dữ liệu và giải thuật | V29: Đáp ứng tốt cho tiêu chí với các kiến thức như: Nội dung môn học đóng góp vào phát triển khoa học và công nghệ, đổi mới sáng tạo, chuyển đổi số | X29: Đáp ứng tốt cho tiêu chí với các kiến thức như: Đóng góp chung vào nội dung phát triển, trọng dụng nhân lực chất lượng cao, nhân tài đáp ứng yêu cầu phát triển khoa học, công nghệ, đổi mới sáng tạo và chuyển đổi số | Y29: Đáp ứng tốt cho tiêu chí với các kiến thức như: Đóng góp chung vào nội dung đẩy mạnh chuyển đổi số, hình thành công dân số, phát triển văn hóa số. | AB29: =COUNTA(H29:AA29) -> 7
A30: 25 | B30: ELE1319 | C30: Lý thuyết thông tin | D30: Kỳ 4 | E30: Cơ sở ngành | F30: 3 | G30: Bắt buộc | H30: Đáp ứng tốt cho tiêu chí với các kiến thức như: Đóng góp cho việc phát triển khoa học, công nghệ, đổi mới sáng tạo và chuyển đổi số | K30: Đáp ứng tốt cho tiêu chí với các kiến thức như: Các kiến thức khoa học cơ bản và ứng dụng | M30: Đáp ứng tốt cho tiêu chí với các kiến thức như: Xây dựng nền tảng cho hợp tác quốc tế ở các lĩnh vực xử lý thông tin trong các khối, giải mã ngưỡng dựa trên hệ tổng kiểm tra trực giao, giải mã theo thuật toán chia dịch vòng, bộ lọc phối hợp v.v. đóng góp vào tiềm lực, trình độ khoa học, công nghệ và đổi mới sáng tạo | R30: Đáp ứng tốt cho tiêu chí với các kiến thức như: Xây dựng nền tảng cho hợp tác quốc tế ở các lĩnh vực xử lý thông tin trong các khối, giải mã ngưỡng dựa trên hệ tổng kiểm tra trực giao, giải mã theo thuật toán chia dịch vòng, bộ lọc phối hợp v.v. | V30: Đáp ứng tốt cho tiêu chí với các kiến thức như: Nội dung môn học đóng góp vào phát triển khoa học và công nghệ, đổi mới sáng tạo, chuyển đổi số | X30: Đáp ứng tốt cho tiêu chí với các kiến thức như: Đóng góp chung vào nội dung phát triển, trọng dụng nhân lực chất lượng cao, nhân tài đáp ứng yêu cầu phát triển khoa học, công nghệ, đổi mới sáng tạo và chuyển đổi số | Y30: Đáp ứng tốt cho tiêu chí với các kiến thức như: Đóng góp chung vào nội dung đẩy mạnh chuyển đổi số, hình thành công dân số, phát triển văn hóa số. | AB30: =COUNTA(H30:AA30) -> 7
A31: 26 | C31: Kỹ năng mềm 2 | D31: Kỳ 4 | E31: Giáo dục Đại cương | G31: Lựa chọn tự do | X31: Đáp ứng tốt cho tiêu chí với các kiến thức như: Đóng góp chung vào nội dung phát triển, trọng dụng nhân lực chất lượng cao, nhân tài đáp ứng yêu cầu phát triển khoa học, công nghệ, đổi mới sáng tạo và chuyển đổi số | AB31: =COUNTA(H31:AA31) -> 1
A32: 27 | C32: Lịch sử Đảng cộng sản Việt Nam | D32: Kỳ 5 | E32: Giáo dục Đại cương | F32: 2 | G32: Bắt buộc | H32: Đáp ứng tốt cho tiêu chí với các kiến thức như: Lãnh đạo công cuộc đổi mới, đẩy mạnh công nghiệp hóa, hiện đại hóa đất nước và hội nhập quốc tế đóng góp cho toàn bộ tiêu chí | I32: Đáp ứng tốt cho tiêu chí với các kiến thức như: Kinh nghiệm, bài học kinh nghiệm lãnh đạo đất nước qua các thời kỳ v.v. đóng góp cho toàn bộ tiêu chí | J32: Đáp ứng tốt cho tiêu chí với các kiến thức như: Xây dựng thể chế, đào tạo bồi dưỡng các thế hệ lãnh đạo v.v. đóng góp cho kiến thức về thể chế, nhân lực | R32: Đáp ứng tốt cho tiêu chí với các kiến thức như: Lãnh đạo công cuộc đổi mới, đẩy mạnh công nghiệp hóa, hiện đại hóa đất nước và hội nhập quốc tế | U32: Đáp ứng tốt cho tiêu chí với các kiến thức như: Môn học đóng góp chung cho nội dung nâng cao nhận thức, đột phá về đổi mới tư duy, xác định quyết tâm chính trị mạnh mẽ, quyết liệt lãnh đạo, chỉ đạo, tạo xung lực mới, khí thế mới trong toàn xã hội về phát triển khoa học, công nghệ, đổi mới sáng tạo và chuyển đổi số quốc gia | V32: Đáp ứng tốt cho tiêu chí với các kiến thức như: Nội dung môn học đóng góp vào hoàn thiện thể chế | X32: Đáp ứng tốt cho tiêu chí với các kiến thức như: Đóng góp chung vào nội dung phát triển, trọng dụng nhân lực chất lượng cao, nhân tài đáp ứng yêu cầu phát triển khoa học, công nghệ, đổi mới sáng tạo và chuyển đổi số | AB32: =COUNTA(H32:AA32) -> 7
A33: 28 | B33: INT13162 | C33: Lập trình với Python | D33: Kỳ 5 | E33: Cơ sở ngành | F33: 3 | G33: Bắt buộc | H33: Đáp ứng tốt cho tiêu chí với các kiến thức như: Lập trình, ứng dụng Python trong phát triển web, AI, và khoa học dữ liệu đóng góp cho việc phát triển khoa học, công nghệ, đổi mới sáng tạo và chuyển đổi số | K33: Đáp ứng tốt cho tiêu chí với các kiến thức như: Các kiến thức về ứng dụng | M33: Đáp ứng tốt cho tiêu chí với các kiến thức như: lập trình, ứng dụng Python trong phát triển web, AI, và khoa học dữ liệu đóng góp vào phát triển một số ngành, lĩnh vực công nghiệp công nghệ số | R33: Đáp ứng tốt cho tiêu chí với các kiến thức như: lập trình, ứng dụng Python trong phát triển web, AI, và khoa học dữ liệu | V33: Đáp ứng tốt cho tiêu chí với các kiến thức như: Nội dung môn học đóng góp vào phát triển khoa học và công nghệ, đổi mới sáng tạo, chuyển đổi số | X33: Đáp ứng tốt cho tiêu chí với các kiến thức như: Đóng góp chung vào nội dung phát triển, trọng dụng nhân lực chất lượng cao, nhân tài đáp ứng yêu cầu phát triển khoa học, công nghệ, đổi mới sáng tạo và chuyển đổi số | Y33: Đáp ứng tốt cho tiêu chí với các kiến thức như: Đóng góp chung vào nội dung đẩy mạnh chuyển đổi số, hình thành công dân số, phát triển văn hóa số. | AB33: =COUNTA(H33:AA33) -> 7
A34: 29 | B34: INT1319 | C34: Hệ điều hành | D34: Kỳ 5 | E34: Cơ sở ngành | F34: 3 | G34: Bắt buộc | H34: Đáp ứng tốt cho tiêu chí với các kiến thức như: Giới thiệu nguyên lý hệ điều hành, Các hệ điều hành, Quản lý tiến trình, Quản lý bộ nhớ v.v. đóng góp cho việc phát triển khoa học, công nghệ, đổi mới sáng tạo và chuyển đổi số | K34: Đáp ứng tốt cho tiêu chí với các kiến thức như: Các kiến thức về ứng dụng | M34: Đáp ứng tốt cho tiêu chí với các kiến thức như: Giới thiệu nguyên lý hệ điều hành, Các hệ điều hành, Quản lý tiến trình, Quản lý bộ nhớ v.v. đóng góp vào năng lực cạnh tranh số và chỉ số phát triển Chính phủ điện tử | R34: Đáp ứng tốt cho tiêu chí với các kiến thức như: Giới thiệu nguyên lý hệ điều hành, Các hệ điều hành, Quản lý tiến trình, Quản lý bộ nhớ v.v. | V34: Đáp ứng tốt cho tiêu chí với các kiến thức như: Nội dung môn học đóng góp vào phát triển khoa học và công nghệ, đổi mới sáng tạo, chuyển đổi số | X34: Đáp ứng tốt cho tiêu chí với các kiến thức như: Đóng góp chung vào nội dung phát triển, trọng dụng nhân lực chất lượng cao, nhân tài đáp ứng yêu cầu phát triển khoa học, công nghệ, đổi mới sáng tạo và chuyển đổi số | Y34: Đáp ứng tốt cho tiêu chí với các kiến thức như: Đóng góp chung vào nội dung đẩy mạnh chuyển đổi số, hình thành công dân số, phát triển văn hóa số. | AB34: =COUNTA(H34:AA34) -> 7
A35: 30 | B35: INT1336 | C35: Mạng máy tính | D35: Kỳ 5 | E35: Cơ sở ngành | F35: 3 | G35: Bắt buộc | H35: Đáp ứng tốt cho tiêu chí với các kiến thức như: Giới thiệu chung về mạng máy tính, Tầng ứng dụng, Tầng Internet, Tầng truy nhập mạng đóng góp cho việc phát triển khoa học, công nghệ, đổi mới sáng tạo và chuyển đổi số | J35: Đáp ứng tốt cho tiêu chí với các kiến thức như: Kiến thức về mạng máy tính đóng góp cho yêu cầu kiến thức về hạ tầng | K35: Đáp ứng tốt cho tiêu chí với các kiến thức như: Các kiến thức về ứng dụng | M35: Đáp ứng tốt cho tiêu chí với các kiến thức như: Giới thiệu chung về mạng máy tính, Tầng ứng dụng, Tầng vận tải, Tầng Internet v.v. đóng góp vào năng lực cạnh tranh số và chỉ số phát triển Chính phủ điện tử | P35: Đáp ứng tốt cho tiêu chí với các kiến thức như: Giới thiệu chung về mạng máy tính, Tầng ứng dụng, Tầng vận tải, Tầng Internet đóng góp vào điện toán đám mây | R35: Đáp ứng tốt cho tiêu chí với các kiến thức như: Giới thiệu chung về mạng máy tính, Tầng ứng dụng, Tầng Internet, Tầng truy nhập mạng | V35: Đáp ứng tốt cho tiêu chí với các kiến thức như: Nội dung môn học đóng góp vào phát triển khoa học và công nghệ, đổi mới sáng tạo, chuyển đổi số | X35: Đáp ứng tốt cho tiêu chí với các kiến thức như: Đóng góp chung vào nội dung phát triển, trọng dụng nhân lực chất lượng cao, nhân tài đáp ứng yêu cầu phát triển khoa học, công nghệ, đổi mới sáng tạo và chuyển đổi số | Y35: Đáp ứng tốt cho tiêu chí với các kiến thức như: Đóng góp chung vào nội dung đẩy mạnh chuyển đổi số, hình thành công dân số, phát triển văn hóa số. | AB35: =COUNTA(H35:AA35) -> 9
A36: 31 | B36: INT1332 | C36: Lập trình hướng đối tượng | D36: Kỳ 5 | E36: Cơ sở ngành | F36: 3 | G36: Bắt buộc | H36: Đáp ứng tốt cho tiêu chí với các kiến thức như: Ngôn ngữ Java, Tổ chức bộ nhớ, Cách thức tổ chức các lớp, Cách thực thi chương trình của Java v.v. đóng góp cho việc phát triển khoa học, công nghệ, đổi mới sáng tạo và chuyển đổi số | K36: Đáp ứng tốt cho tiêu chí với các kiến thức như: Các kiến thức về ứng dụng | M36: Đáp ứng tốt cho tiêu chí với các kiến thức như: Ngôn ngữ Java, Tổ chức bộ nhớ, Cách thức tổ chức các lớp, Cách thực thi chương trình của Java v.v. đóng góp vào phát triển một số ngành, lĩnh vực công nghiệp công nghệ số | R36: Đáp ứng tốt cho tiêu chí với các kiến thức như: Ngôn ngữ Java, Tổ chức bộ nhớ, Cách thức tổ chức các lớp, Cách thực thi chương trình của Java v.v. | V36: Đáp ứng tốt cho tiêu chí với các kiến thức như: Nội dung môn học đóng góp vào phát triển khoa học và công nghệ, đổi mới sáng tạo, chuyển đổi số | X36: Đáp ứng tốt cho tiêu chí với các kiến thức như: Đóng góp chung vào nội dung phát triển, trọng dụng nhân lực chất lượng cao, nhân tài đáp ứng yêu cầu phát triển khoa học, công nghệ, đổi mới sáng tạo và chuyển đổi số | Y36: Đáp ứng tốt cho tiêu chí với các kiến thức như: Đóng góp chung vào nội dung đẩy mạnh chuyển đổi số, hình thành công dân số, phát triển văn hóa số. | AB36: =COUNTA(H36:AA36) -> 7
A37: 32 | B37: INT1313 | C37: Cơ sở dữ liệu | D37: Kỳ 5 | E37: Cơ sở ngành | F37: 3 | G37: Bắt buộc | H37: Đáp ứng tốt cho tiêu chí với các kiến thức như: Thiết kế, Xây dựng, Nhập liệu, Tạo lập, Truy vấn... cơ sở dữ liệu đóng góp cho việc phát triển khoa học, công nghệ, đổi mới sáng tạo và chuyển đổi số | J37: Đáp ứng tốt cho tiêu chí với các kiến thức như: Kiến thức về CSDL đóng góp cho yêu cầu kiến thức về dữ liệu | K37: Đáp ứng tốt cho tiêu chí với các kiến thức như: Các kiến thức về ứng dụng | M37: Đáp ứng tốt cho tiêu chí với các kiến thức như: Thiết kế, Xây dựng, Nhập liệu, Tạo lập, Truy vấn... cơ sở dữ liệu đóng góp vào phát triển một số ngành, lĩnh vực công nghiệp công nghệ số | R37: Đáp ứng tốt cho tiêu chí với các kiến thức như: Thiết kế, Xây dựng, Nhập liệu, Tạo lập, Truy vấn... cơ sở dữ liệu | V37: Đáp ứng tốt cho tiêu chí với các kiến thức như: Nội dung môn học đóng góp vào phát triển khoa học và công nghệ, đổi mới sáng tạo, chuyển đổi số | X37: Đáp ứng tốt cho tiêu chí với các kiến thức như: Đóng góp chung vào nội dung phát triển, trọng dụng nhân lực chất lượng cao, nhân tài đáp ứng yêu cầu phát triển khoa học, công nghệ, đổi mới sáng tạo và chuyển đổi số | Y37: Đáp ứng tốt cho tiêu chí với các kiến thức như: Đóng góp chung vào nội dung đẩy mạnh chuyển đổi số, hình thành công dân số, phát triển văn hóa số. | AB37: =COUNTA(H37:AA37) -> 8
A38: 33 | C38: Tiếng Anh (Course 3 Plus) | D38: Kỳ 5 | E38: Giáo dục Đại cương | F38: 2 | G38: Bắt buộc | H38: Đáp ứng tốt cho tiêu chí với các kiến thức như: Các kiến thức ngoại ngữ, ngôn ngữ học góp phần phát triển nhanh lực lượng sản xuất hiện đại | R38: Đáp ứng tốt cho tiêu chí với các kiến thức như: Các kiến thức ngoại ngữ, ngôn ngữ học | X38: Đáp ứng tốt cho tiêu chí với các kiến thức như: Đóng góp chung vào nội dung phát triển, trọng dụng nhân lực chất lượng cao, nhân tài đáp ứng yêu cầu phát triển khoa học, công nghệ, đổi mới sáng tạo và chuyển đổi số | AB38: =COUNTA(H38:AA38) -> 3
