Workbook

Sheet CM-ThS-UD
D1: CTĐT Thạc sĩ ngành An toàn thông tin định hướng UD Căn cứ Quy định Đào tạo Học viện CN BCVT Điều chỉnh Khối kiến thức: Giáo dục Đại cương; Cơ sở khối ngành; Cơ sở ngành; Chuyên ngành; Kiến thức bổ trợ; Tốt nghiệp | J1: PLO1: Phân tích một bài toán phức tạp và áp dụng các kiến thức tính toán liên ngành để xác định các giải pháp giải quyết bài toán | N1: PLO2: Giao tiếp hiệu quả trong nhiều bối cảnh bối cảnh khoa học và chuyên môn | Q1: PLO3: Nhận thức được trách nhiệm nghề nghiệp và đưa ra những đánh giá sáng suốt trong hoạt động bảo mật dựa trên các nguyên tắc pháp lý và đạo đức | U1: PLO4: Hoạt động hiệu quả với tư cách là thành viên hoặc lãnh đạo một nhóm tham gia vào các hoạt động phù hợp với chuyên môn | Y1: PLO5: Thiết kế, triển khai và đánh giá giải pháp bảo mật cho hệ thống đáp ứng một tập hợp các yêu cầu xác định
A2: Mức độ (level) của mỗi miền (domain): Cx: level x của domain Cognitive; Py: level y của domain Psychomotor; Az: level z của domain Affective | K2: C4 | L2: P3 | O2: C4 | P2: P3 | R2: C4 | S2: P3 | T2: A3 | V2: P3 | W2: A3 | Z2: C6 | AA2: P4
A3: Mỗi PLO được thiết kế 2-3 PI tương ứng; xác định thống nhất mức độ đóng góp của học phần vào mỗi PI của từng PLO | K3: PI 1.1 | L3: PI 1.2 | M3: PI 1.3 | O3: PI 2.1 | P3: PI 2.2 | R3: PI 3.1 | S3: PI 3.2 | V3: PI 4.1 | W3: PI 4.2 | Z3: PI 5.1 | AA3: PI 5.2 | AB3: PI 5.3
A4: OUTCOME (i) COMMUNICATION, (ii) SATURATION | J4: =COUNTIF(J6:J26,Dict!$B$1)*Dict!$B$2+COUNTIF(J6:J26,Dict!$C$1)*Dict!$C$2 -> 17 | K4: =COUNTIF(K6:K26,Dict!$B$3)*Dict!$B$4+COUNTIF(K6:K26,Dict!$C$3)*Dict!$C$4+COUNTIF(K6:K26,Dict!$D$3)*Dict!$D$4+COUNTIF(K6:K26,Dict!$E$3)*Dict!$E$4 -> 18 | L4: =COUNTIF(L6:L26,Dict!$B$3)*Dict!$B$4+COUNTIF(L6:L26,Dict!$C$3)*Dict!$C$4+COUNTIF(L6:L26,Dict!$D$3)*Dict!$D$4+COUNTIF(L6:L26,Dict!$E$3)*Dict!$E$4 -> 18 | M4: =COUNTIF(M6:M26,Dict!$B$3)*Dict!$B$4+COUNTIF(M6:M26,Dict!$C$3)*Dict!$C$4+COUNTIF(M6:M26,Dict!$D$3)*Dict!$D$4+COUNTIF(M6:M26,Dict!$E$3)*Dict!$E$4 -> 18 | N4: =COUNTIF(N6:N26,Dict!$B$1)*Dict!$B$2+COUNTIF(N6:N26,Dict!$C$1)*Dict!$C$2 -> 24 | O4: =COUNTIF(O6:O26,Dict!$B$3)*Dict!$B$4+COUNTIF(O6:O26,Dict!$C$3)*Dict!$C$4+COUNTIF(O6:O26,Dict!$D$3)*Dict!$D$4+COUNTIF(O6:O26,Dict!$E$3)*Dict!$E$4 -> 29 | P4: =COUNTIF(P6:P26,Dict!$B$3)*Dict!$B$4+COUNTIF(P6:P26,Dict!$C$3)*Dict!$C$4+COUNTIF(P6:P26,Dict!$D$3)*Dict!$D$4+COUNTIF(P6:P26,Dict!$E$3)*Dict!$E$4 -> 29 | Q4: =COUNTIF(Q6:Q26,Dict!$B$1)*Dict!$B$2+COUNTIF(Q6:Q26,Dict!$C$1)*Dict!$C$2 -> 20 | R4: =COUNTIF(R6:R26,Dict!$B$3)*Dict!$B$4+COUNTIF(R6:R26,Dict!$C$3)*Dict!$C$4+COUNTIF(R6:R26,Dict!$D$3)*Dict!$D$4+COUNTIF(R6:R26,Dict!$E$3)*Dict!$E$4 -> 22 | S4: =COUNTIF(S6:S26,Dict!$B$3)*Dict!$B$4+COUNTIF(S6:S26,Dict!$C$3)*Dict!$C$4+COUNTIF(S6:S26,Dict!$D$3)*Dict!$D$4+COUNTIF(S6:S26,Dict!$E$3)*Dict!$E$4 -> 22 | T4: =COUNTIF(T6:T26,Dict!$B$3)*Dict!$B$4+COUNTIF(T6:T26,Dict!$C$3)*Dict!$C$4+COUNTIF(T6:T26,Dict!$D$3)*Dict!$D$4+COUNTIF(T6:T26,Dict!$E$3)*Dict!$E$4 -> 0 | U4: =COUNTIF(U6:U26,Dict!$B$1)*Dict!$B$2+COUNTIF(U6:U26,Dict!$C$1)*Dict!$C$2 -> 18 | V4: =COUNTIF(V6:V26,Dict!$B$3)*Dict!$B$4+COUNTIF(V6:V26,Dict!$C$3)*Dict!$C$4+COUNTIF(V6:V26,Dict!$D$3)*Dict!$D$4+COUNTIF(V6:V26,Dict!$E$3)*Dict!$E$4 -> 18 | W4: =COUNTIF(W6:W26,Dict!$B$3)*Dict!$B$4+COUNTIF(W6:W26,Dict!$C$3)*Dict!$C$4+COUNTIF(W6:W26,Dict!$D$3)*Dict!$D$4+COUNTIF(W6:W26,Dict!$E$3)*Dict!$E$4 -> 18 | X4: =COUNTIF(X6:X26,Dict!$B$3)*Dict!$B$4+COUNTIF(X6:X26,Dict!$C$3)*Dict!$C$4+COUNTIF(X6:X26,Dict!$D$3)*Dict!$D$4+COUNTIF(X6:X26,Dict!$E$3)*Dict!$E$4 -> 0 | Y4: =COUNTIF(Y6:Y26,Dict!$B$1)*Dict!$B$2+COUNTIF(Y6:Y26,Dict!$C$1)*Dict!$C$2 -> 21 | Z4: =COUNTIF(Z6:Z26,Dict!$B$3)*Dict!$B$4+COUNTIF(Z6:Z26,Dict!$C$3)*Dict!$C$4+COUNTIF(Z6:Z26,Dict!$D$3)*Dict!$D$4+COUNTIF(Z6:Z26,Dict!$E$3)*Dict!$E$4 -> 27 | AA4: =COUNTIF(AA6:AA26,Dict!$B$3)*Dict!$B$4+COUNTIF(AA6:AA26,Dict!$C$3)*Dict!$C$4+COUNTIF(AA6:AA26,Dict!$D$3)*Dict!$D$4+COUNTIF(AA6:AA26,Dict!$E$3)*Dict!$E$4 -> 27 | AB4: =COUNTIF(AB6:AB26,Dict!$B$3)*Dict!$B$4+COUNTIF(AB6:AB26,Dict!$C$3)*Dict!$C$4+COUNTIF(AB6:AB26,Dict!$D$3)*Dict!$D$4+COUNTIF(AB6:AB26,Dict!$E$3)*Dict!$E$4 -> 27
A5: TT | B5: Mã học phần | C5: Học phần | D5: Học kỳ | E5: Khối kiến thức/ Khối học tập | F5: Số tín chỉ | G5: Loại học phần | H5: (iv) COURSE BREADTH SCORES | I5: (v) COURSE DEPTH SCORES | J5: [i] Outcome Statement (X, Y) | K5: [ii] Mode (I, R, E) | L5: [ii] Mode (I, R, E) | M5: [ii] Mode (I, R, E) | N5: [i] Outcome Statement (X, Y) | O5: [ii] Mode (I, R, E) | P5: [ii] Mode (I, R, E) | Q5: [i] Outcome Statement (X, Y) | R5: [ii] Mode (I, R, E) | S5: [ii] Mode (I, R, E) | T5: [ii] Mode (I, R, E) | U5: [i] Outcome Statement (X, Y) | V5: [ii] Mode (I, R, E) | W5: [ii] Mode (I, R, E) | X5: [ii] Mode (I, R, E) | Y5: [i] Outcome Statement (X, Y) | Z5: [ii] Mode (I, R, E) | AA5: [ii] Mode (I, R, E) | AB5: [ii] Mode (I, R, E)
A6: 1 | B6: BAS4101 | C6: Triết học | D6: Kỳ 1 | E6: Giáo dục Đại cương | F6: 3 | G6: Bắt buộc | H6: =COUNTIF(J6:AX6,Dict!$B$1)*Dict!$B$2+COUNTIF(J6:AX6,Dict!$C$1)*Dict!$C$2 -> 2 | I6: =COUNTIF(J6:AX6,Dict!$B$3)*Dict!$B$4+COUNTIF(J6:AX6,Dict!$C$3)*Dict!$C$4+COUNTIF(J6:AX6,Dict!$D$3)*Dict!$D$4+COUNTIF(J6:AX6,Dict!$E$3)*Dict!$E$4 -> 2 | Q6: X | R6: I | S6: I
A7: 2 | B7: INT4101 | C7: Công cụ toán cho công nghệ thông tin | D7: Kỳ 1 | E7: Cơ sở khối ngành | F7: 2 | G7: Bắt buộc | H7: =COUNTIF(J7:AX7,Dict!$B$1)*Dict!$B$2+COUNTIF(J7:AX7,Dict!$C$1)*Dict!$C$2 -> 2 | I7: =COUNTIF(J7:AX7,Dict!$B$3)*Dict!$B$4+COUNTIF(J7:AX7,Dict!$C$3)*Dict!$C$4+COUNTIF(J7:AX7,Dict!$D$3)*Dict!$D$4+COUNTIF(J7:AX7,Dict!$E$3)*Dict!$E$4 -> 3 | J7: X | K7: I | L7: I | M7: I
A8: 3 | B8: SEC4301 | C8: Mật mã ứng dụng | D8: Kỳ 1 | E8: Cơ sở ngành | F8: 3 | G8: Bắt buộc | H8: =COUNTIF(J8:AX8,Dict!$B$1)*Dict!$B$2+COUNTIF(J8:AX8,Dict!$C$1)*Dict!$C$2 -> 6 | I8: =COUNTIF(J8:AX8,Dict!$B$3)*Dict!$B$4+COUNTIF(J8:AX8,Dict!$C$3)*Dict!$C$4+COUNTIF(J8:AX8,Dict!$D$3)*Dict!$D$4+COUNTIF(J8:AX8,Dict!$E$3)*Dict!$E$4 -> 7 | J8: X | K8: I | L8: I | M8: I | N8: X | O8: I | P8: I | U8: X | V8: I | W8: I
A9: 4 | B9: SEC4302 | C9: An toàn hệ thống thông tin | D9: Kỳ 1 | E9: Cơ sở ngành | F9: 3 | G9: Bắt buộc | H9: =COUNTIF(J9:AX9,Dict!$B$1)*Dict!$B$2+COUNTIF(J9:AX9,Dict!$C$1)*Dict!$C$2 -> 6 | I9: =COUNTIF(J9:AX9,Dict!$B$3)*Dict!$B$4+COUNTIF(J9:AX9,Dict!$C$3)*Dict!$C$4+COUNTIF(J9:AX9,Dict!$D$3)*Dict!$D$4+COUNTIF(J9:AX9,Dict!$E$3)*Dict!$E$4 -> 10 | J9: X | K9: R | L9: R | M9: R | N9: X | O9: I | P9: I | Q9: X | R9: I | S9: I
A10: 5 | C10: Tự chọn cơ sở ngành A1 | D10: Kỳ 1 | E10: Cơ sở ngành | F10: 3 | G10: Lựa chọn bắt buộc | H10: =COUNTIF(J10:AX10,Dict!$B$1)*Dict!$B$2+COUNTIF(J10:AX10,Dict!$C$1)*Dict!$C$2 -> 6 | I10: =COUNTIF(J10:AX10,Dict!$B$3)*Dict!$B$4+COUNTIF(J10:AX10,Dict!$C$3)*Dict!$C$4+COUNTIF(J10:AX10,Dict!$D$3)*Dict!$D$4+COUNTIF(J10:AX10,Dict!$E$3)*Dict!$E$4 -> 12 | J10: X | K10: R | L10: R | M10: R | N10: X | O10: R | P10: R | Q10: X | R10: I | S10: I
A12: 6 | C12: Tự chọn cơ sở ngành A2 | D12: Kỳ 2 | E12: Cơ sở ngành | F12: 3 | G12: Lựa chọn bắt buộc | H12: =COUNTIF(J12:AX12,Dict!$B$1)*Dict!$B$2+COUNTIF(J12:AX12,Dict!$C$1)*Dict!$C$2 -> 8 | I12: =COUNTIF(J12:AX12,Dict!$B$3)*Dict!$B$4+COUNTIF(J12:AX12,Dict!$C$3)*Dict!$C$4+COUNTIF(J12:AX12,Dict!$D$3)*Dict!$D$4+COUNTIF(J12:AX12,Dict!$E$3)*Dict!$E$4 -> 15 | J12: X | K12: R | L12: R | M12: R | N12: X | O12: R | P12: R | U12: X | V12: I | W12: I | Y12: X | Z12: I | AA12: I | AB12: I
C13: Tự chọn cơ sở ngành A3 | D13: Kỳ 2 | E13: Cơ sở ngành | F13: 3 | G13: Lựa chọn bắt buộc | H13: =COUNTIF(J13:AX13,Dict!$B$1)*Dict!$B$2+COUNTIF(J13:AX13,Dict!$C$1)*Dict!$C$2 -> 8 | I13: =COUNTIF(J13:AX13,Dict!$B$3)*Dict!$B$4+COUNTIF(J13:AX13,Dict!$C$3)*Dict!$C$4+COUNTIF(J13:AX13,Dict!$D$3)*Dict!$D$4+COUNTIF(J13:AX13,Dict!$E$3)*Dict!$E$4 -> 18 | J13: X | K13: E | L13: E | M13: E | N13: X | O13: R | P13: R | U13: X | V13: I | W13: I | Y13: X | Z13: I | AA13: I | AB13: I
A14: 7 | B14: SEC4303 | C14: Quản lý, pháp luật và chính sách ATTT | D14: Kỳ 2 | E14: Cơ sở ngành | F14: 3 | G14: Bắt buộc | H14: =COUNTIF(J14:AX14,Dict!$B$1)*Dict!$B$2+COUNTIF(J14:AX14,Dict!$C$1)*Dict!$C$2 -> 6 | I14: =COUNTIF(J14:AX14,Dict!$B$3)*Dict!$B$4+COUNTIF(J14:AX14,Dict!$C$3)*Dict!$C$4+COUNTIF(J14:AX14,Dict!$D$3)*Dict!$D$4+COUNTIF(J14:AX14,Dict!$E$3)*Dict!$E$4 -> 14 | Q14: X | R14: R | S14: R | U14: X | V14: R | W14: R | Y14: X | Z14: R | AA14: R | AB14: R
A15: 8 | B15: SEC4401 | C15: Phân tích mã độc nâng cao | D15: Kỳ 2 | E15: Chuyên ngành | F15: 3 | G15: Bắt buộc | H15: =COUNTIF(J15:AX15,Dict!$B$1)*Dict!$B$2+COUNTIF(J15:AX15,Dict!$C$1)*Dict!$C$2 -> 8 | I15: =COUNTIF(J15:AX15,Dict!$B$3)*Dict!$B$4+COUNTIF(J15:AX15,Dict!$C$3)*Dict!$C$4+COUNTIF(J15:AX15,Dict!$D$3)*Dict!$D$4+COUNTIF(J15:AX15,Dict!$E$3)*Dict!$E$4 -> 18 | N15: X | O15: R | P15: R | Q15: X | R15: R | S15: R | U15: X | V15: R | W15: R | Y15: X | Z15: R | AA15: R | AB15: R
A16: 9 | B16: SEC4403 | C16: Giám sát an toàn mạng nâng cao | D16: Kỳ 2 | E16: Chuyên ngành | F16: 3 | G16: Bắt buộc | H16: =COUNTIF(J16:AX16,Dict!$B$1)*Dict!$B$2+COUNTIF(J16:AX16,Dict!$C$1)*Dict!$C$2 -> 6 | I16: =COUNTIF(J16:AX16,Dict!$B$3)*Dict!$B$4+COUNTIF(J16:AX16,Dict!$C$3)*Dict!$C$4+COUNTIF(J16:AX16,Dict!$D$3)*Dict!$D$4+COUNTIF(J16:AX16,Dict!$E$3)*Dict!$E$4 -> 14 | Q16: X | R16: R | S16: R | U16: X | V16: R | W16: R | Y16: X | Z16: R | AA16: R | AB16: R
A18: 10 | B18: SEC4402 | C18: Kiểm thử xâm nhập nâng cao | D18: Kỳ 3 | E18: Chuyên ngành | F18: 3 | G18: Bắt buộc | H18: =COUNTIF(J18:AX18,Dict!$B$1)*Dict!$B$2+COUNTIF(J18:AX18,Dict!$C$1)*Dict!$C$2 -> 7 | I18: =COUNTIF(J18:AX18,Dict!$B$3)*Dict!$B$4+COUNTIF(J18:AX18,Dict!$C$3)*Dict!$C$4+COUNTIF(J18:AX18,Dict!$D$3)*Dict!$D$4+COUNTIF(J18:AX18,Dict!$E$3)*Dict!$E$4 -> 22 | N18: Y | O18: R | P18: R | Q18: X | R18: E | S18: E | U18: X | V18: E | W18: E | Y18: X | Z18: R | AA18: R | AB18: R
A19: 11 | B19: IGF4101 | C19: Phương pháp nghiên cứu khoa học | D19: Kỳ 3 | E19: Kiến thức bổ trợ | F19: 2 | G19: Bắt buộc | H19: =COUNTIF(J19:AX19,Dict!$B$1)*Dict!$B$2+COUNTIF(J19:AX19,Dict!$C$1)*Dict!$C$2 -> 2 | I19: =COUNTIF(J19:AX19,Dict!$B$3)*Dict!$B$4+COUNTIF(J19:AX19,Dict!$C$3)*Dict!$C$4+COUNTIF(J19:AX19,Dict!$D$3)*Dict!$D$4+COUNTIF(J19:AX19,Dict!$E$3)*Dict!$E$4 -> 5 | J19: Y | K19: I | L19: I | M19: I | N19: Y | O19: I | P19: I
A20: 12 | C20: Tự chọn chuyên ngành B1 | D20: Kỳ 3 | E20: Chuyên ngành | F20: 3 | G20: Lựa chọn bắt buộc | H20: =COUNTIF(J20:AX20,Dict!$B$1)*Dict!$B$2+COUNTIF(J20:AX20,Dict!$C$1)*Dict!$C$2 -> 5 | I20: =COUNTIF(J20:AX20,Dict!$B$3)*Dict!$B$4+COUNTIF(J20:AX20,Dict!$C$3)*Dict!$C$4+COUNTIF(J20:AX20,Dict!$D$3)*Dict!$D$4+COUNTIF(J20:AX20,Dict!$E$3)*Dict!$E$4 -> 19 | N20: X | O20: E | P20: E | Q20: Y | R20: R | S20: R | Y20: X | Z20: E | AA20: E | AB20: E
A21: 15 | C21: Tự chọn chuyên ngành C1 | D21: Kỳ 3 | E21: Chuyên ngành | F21: 2 | G21: Lựa chọn bắt buộc | H21: =COUNTIF(J21:AX21,Dict!$B$1)*Dict!$B$2+COUNTIF(J21:AX21,Dict!$C$1)*Dict!$C$2 -> 5 | I21: =COUNTIF(J21:AX21,Dict!$B$3)*Dict!$B$4+COUNTIF(J21:AX21,Dict!$C$3)*Dict!$C$4+COUNTIF(J21:AX21,Dict!$D$3)*Dict!$D$4+COUNTIF(J21:AX21,Dict!$E$3)*Dict!$E$4 -> 19 | N21: X | O21: E | P21: E | Q21: Y | R21: R | S21: R | Y21: X | Z21: E | AA21: E | AB21: E
A22: 16 | C22: Tự chọn chuyên ngành C2 | D22: Kỳ 3 | E22: Chuyên ngành | F22: 2 | G22: Lựa chọn bắt buộc | H22: =COUNTIF(J22:AX22,Dict!$B$1)*Dict!$B$2+COUNTIF(J22:AX22,Dict!$C$1)*Dict!$C$2 -> 4 | I22: =COUNTIF(J22:AX22,Dict!$B$3)*Dict!$B$4+COUNTIF(J22:AX22,Dict!$C$3)*Dict!$C$4+COUNTIF(J22:AX22,Dict!$D$3)*Dict!$D$4+COUNTIF(J22:AX22,Dict!$E$3)*Dict!$E$4 -> 19 | N22: Y | O22: R | P22: R | U22: X | V22: E | W22: E | Y22: Y | Z22: E | AA22: E | AB22: E
A23: 17 | C23: Tự chọn chuyên ngành C3 | D23: Kỳ 3 | E23: Chuyên ngành | F23: 2 | G23: Lựa chọn bắt buộc | H23: =COUNTIF(J23:AX23,Dict!$B$1)*Dict!$B$2+COUNTIF(J23:AX23,Dict!$C$1)*Dict!$C$2 -> 4 | I23: =COUNTIF(J23:AX23,Dict!$B$3)*Dict!$B$4+COUNTIF(J23:AX23,Dict!$C$3)*Dict!$C$4+COUNTIF(J23:AX23,Dict!$D$3)*Dict!$D$4+COUNTIF(J23:AX23,Dict!$E$3)*Dict!$E$4 -> 19 | N23: Y | O23: R | P23: R | U23: X | V23: E | W23: E | Y23: Y | Z23: E | AA23: E | AB23: E
A25: 46 | B25: SEC4501 | C25: Thực tập tốt nghiệp | D25: Kỳ 4 | E25: Tốt nghiệp | F25: 8 | G25: Bắt buộc | H25: =COUNTIF(J25:AX25,Dict!$B$1)*Dict!$B$2+COUNTIF(J25:AX25,Dict!$C$1)*Dict!$C$2 -> 7 | I25: =COUNTIF(J25:AX25,Dict!$B$3)*Dict!$B$4+COUNTIF(J25:AX25,Dict!$C$3)*Dict!$C$4+COUNTIF(J25:AX25,Dict!$D$3)*Dict!$D$4+COUNTIF(J25:AX25,Dict!$E$3)*Dict!$E$4 -> 27 | J25: X | K25: E | L25: E | M25: E | N25: X | O25: E | P25: E | Q25: X | R25: E | S25: E | Y25: Y | Z25: R | AA25: R | AB25: R
A26: 47 | B26: SEC4502 | C26: Đề án tốt nghiệp | D26: Kỳ 4 | E26: Tốt nghiệp | F26: 9 | G26: Bắt buộc | H26: =COUNTIF(J26:AX26,Dict!$B$1)*Dict!$B$2+COUNTIF(J26:AX26,Dict!$C$1)*Dict!$C$2 -> 8 | I26: =COUNTIF(J26:AX26,Dict!$B$3)*Dict!$B$4+COUNTIF(J26:AX26,Dict!$C$3)*Dict!$C$4+COUNTIF(J26:AX26,Dict!$D$3)*Dict!$D$4+COUNTIF(J26:AX26,Dict!$E$3)*Dict!$E$4 -> 30 | J26: X | K26: E | L26: E | M26: E | N26: X | O26: E | P26: E | Q26: X | R26: E | S26: E | Y26: X | Z26: E | AA26: E | AB26: E
C28: SUM X I | K28: =COUNTIFS(K6:K26,"I",J6:J26,"X") -> 2 | L28: =COUNTIFS(L6:L26,"I",J6:J26,"X") -> 2 | M28: =COUNTIFS(M6:M26,"I",J6:J26,"X") -> 2 | O28: =COUNTIFS(O6:O26,"I",N6:N26,"X") -> 2 | P28: =COUNTIFS(P6:P26,"I",N6:N26,"X") -> 2 | R28: =COUNTIFS(R6:R26,"I",Q6:Q26,"X") -> 3 | S28: =COUNTIFS(S6:S26,"I",Q6:Q26,"X") -> 3 | T28: =COUNTIFS(T6:T26,"I",Q6:Q26,"X") -> 0 | V28: =COUNTIFS(V6:V26,"I",U6:U26,"X") -> 3 | W28: =COUNTIFS(W6:W26,"I",U6:U26,"X") -> 3 | X28: =COUNTIFS(X6:X26,"I",U6:U26,"X") -> 0 | Z28: =COUNTIFS(Z6:Z26,"I",Y6:Y26,"X") -> 2 | AA28: =COUNTIFS(AA6:AA26,"I",Y6:Y26,"X") -> 2 | AB28: =COUNTIFS(AB6:AB26,"I",Y6:Y26,"X") -> 2 | AF28: =COUNTIFS(AF6:AF26,"I",AC6:AC26,"X") -> 0 | AH28: =COUNTIFS(AH6:AH26,"I",AG6:AG26,"X") -> 0 | AI28: =COUNTIFS(AI6:AI26,"A",AH6:AH26,"I",AG6:AG26,"X") -> 0 | AK28: =COUNTIFS(AK6:AK26,"I",AJ6:AJ26,"X") -> 0 | AL28: =COUNTIFS(AL6:AL26,"A",AK6:AK26,"I",AJ6:AJ26,"X") -> 0 | AN28: =COUNTIFS(AN6:AN26,"I",AM6:AM26,"X") -> 0 | AO28: =COUNTIFS(AO6:AO26,"A",AN6:AN26,"I",AM6:AM26,"X") -> 0 | AQ28: =COUNTIFS(AQ6:AQ26,"I",AP6:AP26,"X") -> 0 | AR28: =COUNTIFS(AR6:AR26,"A",AQ6:AQ26,"I",AP6:AP26,"X") -> 0 | AT28: =COUNTIFS(AT6:AT26,"I",AS6:AS26,"X") -> 0 | AU28: =COUNTIFS(AU6:AU26,"A",AT6:AT26,"I",AS6:AS26,"X") -> 0 | AW28: =COUNTIFS(AW6:AW26,"I",AV6:AV26,"X") -> 0 | AX28: =COUNTIFS(AX6:AX26,"A",AW6:AW26,"I",AV6:AV26,"X") -> 0
C29: SUM X R | K29: =COUNTIFS(K6:K26,"R",J6:J26,"X") -> 3 | L29: =COUNTIFS(L6:L26,"R",J6:J26,"X") -> 3 | M29: =COUNTIFS(M6:M26,"R",J6:J26,"X") -> 3 | O29: =COUNTIFS(O6:O26,"R",N6:N26,"X") -> 4 | P29: =COUNTIFS(P6:P26,"R",N6:N26,"X") -> 4 | R29: =COUNTIFS(R6:R26,"R",Q6:Q26,"X") -> 3 | S29: =COUNTIFS(S6:S26,"R",Q6:Q26,"X") -> 3 | T29: =COUNTIFS(T6:T26,"R",Q6:Q26,"X") -> 0 | V29: =COUNTIFS(V6:V26,"R",U6:U26,"X") -> 3 | W29: =COUNTIFS(W6:W26,"R",U6:U26,"X") -> 3 | X29: =COUNTIFS(X6:X26,"R",U6:U26,"X") -> 0 | Z29: =COUNTIFS(Z6:Z26,"R",Y6:Y26,"X") -> 4 | AA29: =COUNTIFS(AA6:AA26,"R",Y6:Y26,"X") -> 4 | AB29: =COUNTIFS(AB6:AB26,"R",Y6:Y26,"X") -> 4 | AF29: =COUNTIFS(AF6:AF26,"R",AC6:AC26,"X") -> 0 | AH29: =COUNTIFS(AH6:AH26,"R",AG6:AG26,"X") -> 0 | AI29: =COUNTIFS(AI6:AI26,"A",AH6:AH26,"R",AG6:AG26,"X") -> 0 | AK29: =COUNTIFS(AK6:AK26,"R",AJ6:AJ26,"X") -> 0 | AL29: =COUNTIFS(AL6:AL26,"A",AK6:AK26,"R",AJ6:AJ26,"X") -> 0 | AN29: =COUNTIFS(AN6:AN26,"R",AM6:AM26,"X") -> 0 | AO29: =COUNTIFS(AO6:AO26,"A",AN6:AN26,"R",AM6:AM26,"X") -> 0 | AQ29: =COUNTIFS(AQ6:AQ26,"R",AP6:AP26,"X") -> 0 | AR29: =COUNTIFS(AR6:AR26,"A",AQ6:AQ26,"R",AP6:AP26,"X") -> 0 | AT29: =COUNTIFS(AT6:AT26,"R",AS6:AS26,"X") -> 0 | AU29: =COUNTIFS(AU6:AU26,"A",AT6:AT26,"R",AS6:AS26,"X") -> 0 | AW29: =COUNTIFS(AW6:AW26,"R",AV6:AV26,"X") -> 0 | AX29: =COUNTIFS(AX6:AX26,"A",AW6:AW26,"R",AV6:AV26,"X") -> 0
C30: SUM X E | K30: =COUNTIFS(K6:K26,"E",J6:J26,"X") -> 3 | L30: =COUNTIFS(L6:L26,"E",J6:J26,"X") -> 3 | M30: =COUNTIFS(M6:M26,"E",J6:J26,"X") -> 3 | O30: =COUNTIFS(O6:O26,"E",N6:N26,"X") -> 4 | P30: =COUNTIFS(P6:P26,"E",N6:N26,"X") -> 4 | R30: =COUNTIFS(R6:R26,"E",Q6:Q26,"X") -> 3 | S30: =COUNTIFS(S6:S26,"E",Q6:Q26,"X") -> 3 | T30: =COUNTIFS(T6:T26,"E",Q6:Q26,"X") -> 0 | V30: =COUNTIFS(V6:V26,"E",U6:U26,"X") -> 3 | W30: =COUNTIFS(W6:W26,"E",U6:U26,"X") -> 3 | X30: =COUNTIFS(X6:X26,"E",U6:U26,"X") -> 0 | Z30: =COUNTIFS(Z6:Z26,"E",Y6:Y26,"X") -> 3 | AA30: =COUNTIFS(AA6:AA26,"E",Y6:Y26,"X") -> 3 | AB30: =COUNTIFS(AB6:AB26,"E",Y6:Y26,"X") -> 3 | AF30: =COUNTIFS(AF6:AF26,"E",AC6:AC26,"X") -> 0 | AH30: =COUNTIFS(AH6:AH26,"E",AG6:AG26,"X") -> 0 | AI30: =COUNTIFS(AI6:AI26,"A",AH6:AH26,"E",AG6:AG26,"X") -> 0 | AK30: =COUNTIFS(AK6:AK26,"E",AJ6:AJ26,"X") -> 0 | AL30: =COUNTIFS(AL6:AL26,"A",AK6:AK26,"E",AJ6:AJ26,"X") -> 0 | AN30: =COUNTIFS(AN6:AN26,"E",AM6:AM26,"X") -> 0 | AO30: =COUNTIFS(AO6:AO26,"A",AN6:AN26,"E",AM6:AM26,"X") -> 0 | AQ30: =COUNTIFS(AQ6:AQ26,"E",AP6:AP26,"X") -> 0 | AR30: =COUNTIFS(AR6:AR26,"A",AQ6:AQ26,"E",AP6:AP26,"X") -> 0 | AT30: =COUNTIFS(AT6:AT26,"E",AS6:AS26,"X") -> 0 | AU30: =COUNTIFS(AU6:AU26,"A",AT6:AT26,"E",AS6:AS26,"X") -> 0 | AW30: =COUNTIFS(AW6:AW26,"E",AV6:AV26,"X") -> 0 | AX30: =COUNTIFS(AX6:AX26,"A",AW6:AW26,"E",AV6:AV26,"X") -> 0
C32: SUM Y I | K32: =COUNTIFS(K6:K26,"I",J6:J26,"Y") -> 1 | O32: =COUNTIFS(O6:O26,"I",N6:N26,"Y") -> 1 | R32: =COUNTIFS(R6:R26,"I",Q6:Q26,"Y") -> 0 | V32: =COUNTIFS(V6:V26,"I",U6:U26,"Y") -> 0 | Z32: =COUNTIFS(Z6:Z26,"I",Y6:Y26,"Y") -> 0 | AH32: =COUNTIFS(AH6:AH26,"I",AG6:AG26,"Y") -> 0 | AI32: =COUNTIFS(AI6:AI26,"A",AH6:AH26,"I",AG6:AG26,"Y") -> 0 | AK32: =COUNTIFS(AK6:AK26,"I",AJ6:AJ26,"Y") -> 0 | AL32: =COUNTIFS(AL6:AL26,"A",AK6:AK26,"I",AJ6:AJ26,"Y") -> 0 | AN32: =COUNTIFS(AN6:AN26,"I",AM6:AM26,"Y") -> 0 | AO32: =COUNTIFS(AO6:AO26,"A",AN6:AN26,"I",AM6:AM26,"Y") -> 0 | AQ32: =COUNTIFS(AQ6:AQ26,"I",AP6:AP26,"Y") -> 0 | AR32: =COUNTIFS(AR6:AR26,"A",AQ6:AQ26,"I",AP6:AP26,"Y") -> 0 | AT32: =COUNTIFS(AT6:AT26,"I",AS6:AS26,"Y") -> 0 | AU32: =COUNTIFS(AU6:AU26,"A",AT6:AT26,"I",AS6:AS26,"Y") -> 0 | AW32: =COUNTIFS(AW6:AW26,"I",AV6:AV26,"Y") -> 0 | AX32: =COUNTIFS(AX6:AX26,"A",AW6:AW26,"I",AV6:AV26,"Y") -> 0
C33: SUM Y R | K33: =COUNTIFS(K6:K26,"R",J6:J26,"Y") -> 0 | O33: =COUNTIFS(O6:O26,"R",N6:N26,"Y") -> 3 | R33: =COUNTIFS(R6:R26,"R",Q6:Q26,"Y") -> 2 | V33: =COUNTIFS(V6:V26,"R",U6:U26,"Y") -> 0 | Z33: =COUNTIFS(Z6:Z26,"R",Y6:Y26,"Y") -> 1 | AH33: =COUNTIFS(AH6:AH26,"R",AG6:AG26,"Y") -> 0 | AI33: =COUNTIFS(AI6:AI26,"A",AH6:AH26,"R",AG6:AG26,"Y") -> 0 | AK33: =COUNTIFS(AK6:AK26,"R",AJ6:AJ26,"Y") -> 0 | AL33: =COUNTIFS(AL6:AL26,"A",AK6:AK26,"R",AJ6:AJ26,"Y") -> 0 | AN33: =COUNTIFS(AN6:AN26,"R",AM6:AM26,"Y") -> 0 | AO33: =COUNTIFS(AO6:AO26,"A",AN6:AN26,"R",AM6:AM26,"Y") -> 0 | AQ33: =COUNTIFS(AQ6:AQ26,"R",AP6:AP26,"Y") -> 0 | AR33: =COUNTIFS(AR6:AR26,"A",AQ6:AQ26,"R",AP6:AP26,"Y") -> 0 | AT33: =COUNTIFS(AT6:AT26,"R",AS6:AS26,"Y") -> 0 | AU33: =COUNTIFS(AU6:AU26,"A",AT6:AT26,"R",AS6:AS26,"Y") -> 0 | AW33: =COUNTIFS(AW6:AW26,"R",AV6:AV26,"Y") -> 0 | AX33: =COUNTIFS(AX6:AX26,"A",AW6:AW26,"R",AV6:AV26,"Y") -> 0
C34: SUM Y E | K34: =COUNTIFS(K6:K26,"E",J6:J26,"Y") -> 0 | O34: =COUNTIFS(O6:O26,"E",N6:N26,"Y") -> 0 | R34: =COUNTIFS(R6:R26,"E",Q6:Q26,"Y") -> 0 | V34: =COUNTIFS(V6:V26,"E",U6:U26,"Y") -> 0 | Z34: =COUNTIFS(Z6:Z26,"E",Y6:Y26,"Y") -> 2 | AH34: =COUNTIFS(AH6:AH26,"E",AG6:AG26,"Y") -> 0 | AI34: =COUNTIFS(AI6:AI26,"A",AH6:AH26,"E",AG6:AG26,"Y") -> 0 | AK34: =COUNTIFS(AK6:AK26,"E",AJ6:AJ26,"Y") -> 0 | AL34: =COUNTIFS(AL6:AL26,"A",AK6:AK26,"E",AJ6:AJ26,"Y") -> 0 | AN34: =COUNTIFS(AN6:AN26,"E",AM6:AM26,"Y") -> 0 | AO34: =COUNTIFS(AO6:AO26,"A",AN6:AN26,"E",AM6:AM26,"Y") -> 0 | AQ34: =COUNTIFS(AQ6:AQ26,"E",AP6:AP26,"Y") -> 0 | AR34: =COUNTIFS(AR6:AR26,"A",AQ6:AQ26,"E",AP6:AP26,"Y") -> 0 | AT34: =COUNTIFS(AT6:AT26,"E",AS6:AS26,"Y") -> 0 | AU34: =COUNTIFS(AU6:AU26,"A",AT6:AT26,"E",AS6:AS26,"Y") -> 0 | AW34: =COUNTIFS(AW6:AW26,"E",AV6:AV26,"Y") -> 0 | AX34: =COUNTIFS(AX6:AX26,"A",AW6:AW26,"E",AV6:AV26,"Y") -> 0

Sheet CM-ThS-NC
D1: CTĐT Thạc sĩ ngành An toàn thông tin định hướng NC Căn cứ Quy định Đào tạo Học viện CN BCVT Điều chỉnh Khối kiến thức: Giáo dục Đại cương; Cơ sở khối ngành; Cơ sở ngành; Chuyên ngành; Kiến thức bổ trợ; Tốt nghiệp | J1: PLO1: Phân tích một bài toán phức tạp và áp dụng các kiến thức tính toán liên ngành để xác định các giải pháp giải quyết bài toán | N1: PLO2: Giao tiếp hiệu quả trong nhiều bối cảnh bối cảnh khoa học và chuyên môn | Q1: PLO3: Nhận thức được trách nhiệm nghề nghiệp và đưa ra những đánh giá sáng suốt trong hoạt động bảo mật dựa trên các nguyên tắc pháp lý và đạo đức | U1: PLO4: Hoạt động hiệu quả với tư cách là thành viên hoặc lãnh đạo một nhóm tham gia vào các hoạt động phù hợp với chuyên môn | Y1: PLO5: Thiết kế, triển khai và đánh giá giải pháp bảo mật cho hệ thống đáp ứng một tập hợp các yêu cầu xác định
A2: Mức độ (level) của mỗi miền (domain): Cx: level x của domain Cognitive; Py: level y của domain Psychomotor; Az: level z của domain Affective | K2: C4 | L2: P3 | O2: C4 | P2: P3 | R2: C4 | S2: P3 | T2: A2 | V2: P3 | W2: A2 | Z2: C6 | AA2: P4
A3: Mỗi PLO được thiết kế 2-3 PI tương ứng; xác định thống nhất mức độ đóng góp của học phần vào mỗi PI của từng PLO | K3: PI 1.1 | L3: PI 1.2 | M3: PI 1.3 | O3: PI 2.1 | P3: PI 2.2 | R3: PI 3.1 | S3: PI 3.2 | V3: PI 4.1 | W3: PI 4.2 | Z3: PI 5.1 | AA3: PI 5.2 | AB3: PI 5.3
A4: OUTCOME (i) COMMUNICATION, (ii) SATURATION | J4: =COUNTIF(J6:J25,Dict!$B$1)*Dict!$B$2+COUNTIF(J6:J25,Dict!$C$1)*Dict!$C$2 -> 17 | K4: =COUNTIF(K6:K25,Dict!$B$3)*Dict!$B$4+COUNTIF(K6:K25,Dict!$C$3)*Dict!$C$4+COUNTIF(K6:K25,Dict!$D$3)*Dict!$D$4+COUNTIF(K6:K25,Dict!$E$3)*Dict!$E$4 -> 18 | L4: =COUNTIF(L6:L25,Dict!$B$3)*Dict!$B$4+COUNTIF(L6:L25,Dict!$C$3)*Dict!$C$4+COUNTIF(L6:L25,Dict!$D$3)*Dict!$D$4+COUNTIF(L6:L25,Dict!$E$3)*Dict!$E$4 -> 18 | M4: =COUNTIF(M6:M25,Dict!$B$3)*Dict!$B$4+COUNTIF(M6:M25,Dict!$C$3)*Dict!$C$4+COUNTIF(M6:M25,Dict!$D$3)*Dict!$D$4+COUNTIF(M6:M25,Dict!$E$3)*Dict!$E$4 -> 18 | N4: =COUNTIF(N6:N25,Dict!$B$1)*Dict!$B$2+COUNTIF(N6:N25,Dict!$C$1)*Dict!$C$2 -> 22 | O4: =COUNTIF(O6:O25,Dict!$B$3)*Dict!$B$4+COUNTIF(O6:O25,Dict!$C$3)*Dict!$C$4+COUNTIF(O6:O25,Dict!$D$3)*Dict!$D$4+COUNTIF(O6:O25,Dict!$E$3)*Dict!$E$4 -> 26 | P4: =COUNTIF(P6:P25,Dict!$B$3)*Dict!$B$4+COUNTIF(P6:P25,Dict!$C$3)*Dict!$C$4+COUNTIF(P6:P25,Dict!$D$3)*Dict!$D$4+COUNTIF(P6:P25,Dict!$E$3)*Dict!$E$4 -> 26 | Q4: =COUNTIF(Q6:Q25,Dict!$B$1)*Dict!$B$2+COUNTIF(Q6:Q25,Dict!$C$1)*Dict!$C$2 -> 19 | R4: =COUNTIF(R6:R25,Dict!$B$3)*Dict!$B$4+COUNTIF(R6:R25,Dict!$C$3)*Dict!$C$4+COUNTIF(R6:R25,Dict!$D$3)*Dict!$D$4+COUNTIF(R6:R25,Dict!$E$3)*Dict!$E$4 -> 20 | S4: =COUNTIF(S6:S25,Dict!$B$3)*Dict!$B$4+COUNTIF(S6:S25,Dict!$C$3)*Dict!$C$4+COUNTIF(S6:S25,Dict!$D$3)*Dict!$D$4+COUNTIF(S6:S25,Dict!$E$3)*Dict!$E$4 -> 20 | T4: =COUNTIF(T6:T25,Dict!$B$3)*Dict!$B$4+COUNTIF(T6:T25,Dict!$C$3)*Dict!$C$4+COUNTIF(T6:T25,Dict!$D$3)*Dict!$D$4+COUNTIF(T6:T25,Dict!$E$3)*Dict!$E$4 -> 0 | U4: =COUNTIF(U6:U25,Dict!$B$1)*Dict!$B$2+COUNTIF(U6:U25,Dict!$C$1)*Dict!$C$2 -> 18 | V4: =COUNTIF(V6:V25,Dict!$B$3)*Dict!$B$4+COUNTIF(V6:V25,Dict!$C$3)*Dict!$C$4+COUNTIF(V6:V25,Dict!$D$3)*Dict!$D$4+COUNTIF(V6:V25,Dict!$E$3)*Dict!$E$4 -> 18 | W4: =COUNTIF(W6:W25,Dict!$B$3)*Dict!$B$4+COUNTIF(W6:W25,Dict!$C$3)*Dict!$C$4+COUNTIF(W6:W25,Dict!$D$3)*Dict!$D$4+COUNTIF(W6:W25,Dict!$E$3)*Dict!$E$4 -> 18 | X4: =COUNTIF(X6:X25,Dict!$B$3)*Dict!$B$4+COUNTIF(X6:X25,Dict!$C$3)*Dict!$C$4+COUNTIF(X6:X25,Dict!$D$3)*Dict!$D$4+COUNTIF(X6:X25,Dict!$E$3)*Dict!$E$4 -> 0 | Y4: =COUNTIF(Y6:Y25,Dict!$B$1)*Dict!$B$2+COUNTIF(Y6:Y25,Dict!$C$1)*Dict!$C$2 -> 20 | Z4: =COUNTIF(Z6:Z25,Dict!$B$3)*Dict!$B$4+COUNTIF(Z6:Z25,Dict!$C$3)*Dict!$C$4+COUNTIF(Z6:Z25,Dict!$D$3)*Dict!$D$4+COUNTIF(Z6:Z25,Dict!$E$3)*Dict!$E$4 -> 25 | AA4: =COUNTIF(AA6:AA25,Dict!$B$3)*Dict!$B$4+COUNTIF(AA6:AA25,Dict!$C$3)*Dict!$C$4+COUNTIF(AA6:AA25,Dict!$D$3)*Dict!$D$4+COUNTIF(AA6:AA25,Dict!$E$3)*Dict!$E$4 -> 25 | AB4: =COUNTIF(AB6:AB25,Dict!$B$3)*Dict!$B$4+COUNTIF(AB6:AB25,Dict!$C$3)*Dict!$C$4+COUNTIF(AB6:AB25,Dict!$D$3)*Dict!$D$4+COUNTIF(AB6:AB25,Dict!$E$3)*Dict!$E$4 -> 25
A5: TT | B5: Mã học phần | C5: Học phần | D5: Học kỳ | E5: Khối kiến thức/ Khối học tập | F5: Số tín chỉ | G5: Loại học phần | H5: (iv) COURSE BREADTH SCORES | I5: (v) COURSE DEPTH SCORES | J5: [i] Outcome Statement (X, Y) | K5: [ii] Mode (I, R, E) | L5: [ii] Mode (I, R, E) | M5: [ii] Mode (I, R, E) | N5: [i] Outcome Statement (X, Y) | O5: [ii] Mode (I, R, E) | P5: [ii] Mode (I, R, E) | Q5: [i] Outcome Statement (X, Y) | R5: [ii] Mode (I, R, E) | S5: [ii] Mode (I, R, E) | T5: [ii] Mode (I, R, E) | U5: [i] Outcome Statement (X, Y) | V5: [ii] Mode (I, R, E) | W5: [ii] Mode (I, R, E) | X5: [ii] Mode (I, R, E) | Y5: [i] Outcome Statement (X, Y) | Z5: [ii] Mode (I, R, E) | AA5: [ii] Mode (I, R, E) | AB5: [ii] Mode (I, R, E)
A6: 1 | B6: BAS4101 | C6: Triết học | D6: Kỳ 1 | E6: Giáo dục Đại cương | F6: 3 | G6: Bắt buộc | H6: =COUNTIF(J6:AX6,Dict!$B$1)*Dict!$B$2+COUNTIF(J6:AX6,Dict!$C$1)*Dict!$C$2 -> 2 | I6: =COUNTIF(J6:AX6,Dict!$B$3)*Dict!$B$4+COUNTIF(J6:AX6,Dict!$C$3)*Dict!$C$4+COUNTIF(J6:AX6,Dict!$D$3)*Dict!$D$4+COUNTIF(J6:AX6,Dict!$E$3)*Dict!$E$4 -> 2 | Q6: X | R6: I | S6: I
A7: 2 | B7: INT4101 | C7: Công cụ toán cho công nghệ thông tin | D7: Kỳ 1 | E7: Cơ sở khối ngành | F7: 2 | G7: Bắt buộc | H7: =COUNTIF(J7:AX7,Dict!$B$1)*Dict!$B$2+COUNTIF(J7:AX7,Dict!$C$1)*Dict!$C$2 -> 2 | I7: =COUNTIF(J7:AX7,Dict!$B$3)*Dict!$B$4+COUNTIF(J7:AX7,Dict!$C$3)*Dict!$C$4+COUNTIF(J7:AX7,Dict!$D$3)*Dict!$D$4+COUNTIF(J7:AX7,Dict!$E$3)*Dict!$E$4 -> 3 | J7: X | K7: I | L7: I | M7: I
A8: 3 | B8: SEC4301 | C8: Mật mã ứng dụng | D8: Kỳ 1 | E8: Cơ sở ngành | F8: 3 | G8: Bắt buộc | H8: =COUNTIF(J8:AX8,Dict!$B$1)*Dict!$B$2+COUNTIF(J8:AX8,Dict!$C$1)*Dict!$C$2 -> 6 | I8: =COUNTIF(J8:AX8,Dict!$B$3)*Dict!$B$4+COUNTIF(J8:AX8,Dict!$C$3)*Dict!$C$4+COUNTIF(J8:AX8,Dict!$D$3)*Dict!$D$4+COUNTIF(J8:AX8,Dict!$E$3)*Dict!$E$4 -> 7 | J8: X | K8: I | L8: I | M8: I | N8: X | O8: I | P8: I | U8: X | V8: I | W8: I
A9: 4 | B9: SEC4302 | C9: An toàn hệ thống thông tin | D9: Kỳ 1 | E9: Cơ sở ngành | F9: 3 | G9: Bắt buộc | H9: =COUNTIF(J9:AX9,Dict!$B$1)*Dict!$B$2+COUNTIF(J9:AX9,Dict!$C$1)*Dict!$C$2 -> 6 | I9: =COUNTIF(J9:AX9,Dict!$B$3)*Dict!$B$4+COUNTIF(J9:AX9,Dict!$C$3)*Dict!$C$4+COUNTIF(J9:AX9,Dict!$D$3)*Dict!$D$4+COUNTIF(J9:AX9,Dict!$E$3)*Dict!$E$4 -> 10 | J9: X | K9: R | L9: R | M9: R | N9: X | O9: I | P9: I | Q9: X | R9: I | S9: I
A10: 5 | C10: Tự chọn cơ sở ngành A1 | D10: Kỳ 1 | E10: Cơ sở ngành | F10: 3 | G10: Lựa chọn bắt buộc | H10: =COUNTIF(J10:AX10,Dict!$B$1)*Dict!$B$2+COUNTIF(J10:AX10,Dict!$C$1)*Dict!$C$2 -> 6 | I10: =COUNTIF(J10:AX10,Dict!$B$3)*Dict!$B$4+COUNTIF(J10:AX10,Dict!$C$3)*Dict!$C$4+COUNTIF(J10:AX10,Dict!$D$3)*Dict!$D$4+COUNTIF(J10:AX10,Dict!$E$3)*Dict!$E$4 -> 12 | J10: X | K10: R | L10: R | M10: R | N10: X | O10: R | P10: R | Q10: X | R10: I | S10: I
A12: 6 | B12: SEC4311 | C12: Chuyên đề thạc sĩ 1 | D12: Kỳ 2 | E12: Cơ sở ngành | F12: 3 | G12: Lựa chọn bắt buộc | H12: =COUNTIF(J12:AX12,Dict!$B$1)*Dict!$B$2+COUNTIF(J12:AX12,Dict!$C$1)*Dict!$C$2 -> 8 | I12: =COUNTIF(J12:AX12,Dict!$B$3)*Dict!$B$4+COUNTIF(J12:AX12,Dict!$C$3)*Dict!$C$4+COUNTIF(J12:AX12,Dict!$D$3)*Dict!$D$4+COUNTIF(J12:AX12,Dict!$E$3)*Dict!$E$4 -> 15 | J12: X | K12: R | L12: R | M12: R | N12: X | O12: R | P12: R | U12: X | V12: I | W12: I | Y12: X | Z12: I | AA12: I | AB12: I
B13: SEC4312 | C13: Chuyên đề thạc sĩ 2 | D13: Kỳ 2 | E13: Cơ sở ngành | F13: 3 | G13: Lựa chọn bắt buộc | H13: =COUNTIF(J13:AX13,Dict!$B$1)*Dict!$B$2+COUNTIF(J13:AX13,Dict!$C$1)*Dict!$C$2 -> 8 | I13: =COUNTIF(J13:AX13,Dict!$B$3)*Dict!$B$4+COUNTIF(J13:AX13,Dict!$C$3)*Dict!$C$4+COUNTIF(J13:AX13,Dict!$D$3)*Dict!$D$4+COUNTIF(J13:AX13,Dict!$E$3)*Dict!$E$4 -> 18 | J13: X | K13: E | L13: E | M13: E | N13: X | O13: R | P13: R | U13: X | V13: I | W13: I | Y13: X | Z13: I | AA13: I | AB13: I
A14: 7 | B14: SEC4303 | C14: Quản lý, pháp luật và chính sách ATTT | D14: Kỳ 2 | E14: Cơ sở ngành | F14: 3 | G14: Bắt buộc | H14: =COUNTIF(J14:AX14,Dict!$B$1)*Dict!$B$2+COUNTIF(J14:AX14,Dict!$C$1)*Dict!$C$2 -> 6 | I14: =COUNTIF(J14:AX14,Dict!$B$3)*Dict!$B$4+COUNTIF(J14:AX14,Dict!$C$3)*Dict!$C$4+COUNTIF(J14:AX14,Dict!$D$3)*Dict!$D$4+COUNTIF(J14:AX14,Dict!$E$3)*Dict!$E$4 -> 14 | Q14: X | R14: R | S14: R | U14: X | V14: R | W14: R | Y14: X | Z14: R | AA14: R | AB14: R
A15: 8 | B15: SEC4401 | C15: Phân tích mã độc nâng cao | D15: Kỳ 2 | E15: Chuyên ngành | F15: 3 | G15: Bắt buộc | H15: =COUNTIF(J15:AX15,Dict!$B$1)*Dict!$B$2+COUNTIF(J15:AX15,Dict!$C$1)*Dict!$C$2 -> 8 | I15: =COUNTIF(J15:AX15,Dict!$B$3)*Dict!$B$4+COUNTIF(J15:AX15,Dict!$C$3)*Dict!$C$4+COUNTIF(J15:AX15,Dict!$D$3)*Dict!$D$4+COUNTIF(J15:AX15,Dict!$E$3)*Dict!$E$4 -> 18 | N15: X | O15: R | P15: R | Q15: X | R15: R | S15: R | U15: X | V15: R | W15: R | Y15: X | Z15: R | AA15: R | AB15: R
A16: 9 | B16: SEC4403 | C16: Giám sát an toàn mạng nâng cao | D16: Kỳ 2 | E16: Chuyên ngành | F16: 3 | G16: Bắt buộc | H16: =COUNTIF(J16:AX16,Dict!$B$1)*Dict!$B$2+COUNTIF(J16:AX16,Dict!$C$1)*Dict!$C$2 -> 6 | I16: =COUNTIF(J16:AX16,Dict!$B$3)*Dict!$B$4+COUNTIF(J16:AX16,Dict!$C$3)*Dict!$C$4+COUNTIF(J16:AX16,Dict!$D$3)*Dict!$D$4+COUNTIF(J16:AX16,Dict!$E$3)*Dict!$E$4 -> 14 | Q16: X | R16: R | S16: R | U16: X | V16: R | W16: R | Y16: X | Z16: R | AA16: R | AB16: R
A18: 10 | B18: SEC4402 | C18: Kiểm thử xâm nhập nâng cao | D18: Kỳ 3 | E18: Chuyên ngành | F18: 3 | G18: Bắt buộc | H18: =COUNTIF(J18:AX18,Dict!$B$1)*Dict!$B$2+COUNTIF(J18:AX18,Dict!$C$1)*Dict!$C$2 -> 7 | I18: =COUNTIF(J18:AX18,Dict!$B$3)*Dict!$B$4+COUNTIF(J18:AX18,Dict!$C$3)*Dict!$C$4+COUNTIF(J18:AX18,Dict!$D$3)*Dict!$D$4+COUNTIF(J18:AX18,Dict!$E$3)*Dict!$E$4 -> 22 | N18: Y | O18: R | P18: R | Q18: X | R18: E | S18: E | U18: X | V18: E | W18: E | Y18: X | Z18: R | AA18: R | AB18: R
A19: 11 | B19: IGF4101 | C19: Phương pháp nghiên cứu khoa học | D19: Kỳ 3 | E19: Kiến thức bổ trợ | F19: 2 | G19: Bắt buộc | H19: =COUNTIF(J19:AX19,Dict!$B$1)*Dict!$B$2+COUNTIF(J19:AX19,Dict!$C$1)*Dict!$C$2 -> 2 | I19: =COUNTIF(J19:AX19,Dict!$B$3)*Dict!$B$4+COUNTIF(J19:AX19,Dict!$C$3)*Dict!$C$4+COUNTIF(J19:AX19,Dict!$D$3)*Dict!$D$4+COUNTIF(J19:AX19,Dict!$E$3)*Dict!$E$4 -> 5 | J19: Y | K19: I | L19: I | M19: I | N19: Y | O19: I | P19: I
A20: 12 | B20: SEC4412 | C20: Chuyên đề thạc sĩ 3 | D20: Kỳ 3 | E20: Chuyên ngành | F20: 3 | G20: Lựa chọn bắt buộc | H20: =COUNTIF(J20:AX20,Dict!$B$1)*Dict!$B$2+COUNTIF(J20:AX20,Dict!$C$1)*Dict!$C$2 -> 7 | I20: =COUNTIF(J20:AX20,Dict!$B$3)*Dict!$B$4+COUNTIF(J20:AX20,Dict!$C$3)*Dict!$C$4+COUNTIF(J20:AX20,Dict!$D$3)*Dict!$D$4+COUNTIF(J20:AX20,Dict!$E$3)*Dict!$E$4 -> 28 | J20: X | K20: E | L20: E | M20: E | N20: X | O20: E | P20: E | Q20: Y | R20: R | S20: R | Y20: X | Z20: E | AA20: E | AB20: E
A21: 15 | B21: SEC4413 | C21: Chuyên đề thạc sĩ 4 | D21: Kỳ 3 | E21: Chuyên ngành | F21: 3 | G21: Lựa chọn bắt buộc | H21: =COUNTIF(J21:AX21,Dict!$B$1)*Dict!$B$2+COUNTIF(J21:AX21,Dict!$C$1)*Dict!$C$2 -> 6 | I21: =COUNTIF(J21:AX21,Dict!$B$3)*Dict!$B$4+COUNTIF(J21:AX21,Dict!$C$3)*Dict!$C$4+COUNTIF(J21:AX21,Dict!$D$3)*Dict!$D$4+COUNTIF(J21:AX21,Dict!$E$3)*Dict!$E$4 -> 21 | N21: X | O21: E | P21: E | Q21: X | R21: E | S21: E | Y21: X | Z21: E | AA21: E | AB21: E
A22: 16 | C22: Tự chọn chuyên ngành B1 | D22: Kỳ 3 | E22: Chuyên ngành | F22: 3 | G22: Lựa chọn bắt buộc | H22: =COUNTIF(J22:AX22,Dict!$B$1)*Dict!$B$2+COUNTIF(J22:AX22,Dict!$C$1)*Dict!$C$2 -> 4 | I22: =COUNTIF(J22:AX22,Dict!$B$3)*Dict!$B$4+COUNTIF(J22:AX22,Dict!$C$3)*Dict!$C$4+COUNTIF(J22:AX22,Dict!$D$3)*Dict!$D$4+COUNTIF(J22:AX22,Dict!$E$3)*Dict!$E$4 -> 19 | N22: Y | O22: R | P22: R | U22: X | V22: E | W22: E | Y22: Y | Z22: E | AA22: E | AB22: E
A23: 17 | C23: Tự chọn chuyên ngành C2 | D23: Kỳ 3 | E23: Chuyên ngành | F23: 2 | G23: Lựa chọn bắt buộc | H23: =COUNTIF(J23:AX23,Dict!$B$1)*Dict!$B$2+COUNTIF(J23:AX23,Dict!$C$1)*Dict!$C$2 -> 4 | I23: =COUNTIF(J23:AX23,Dict!$B$3)*Dict!$B$4+COUNTIF(J23:AX23,Dict!$C$3)*Dict!$C$4+COUNTIF(J23:AX23,Dict!$D$3)*Dict!$D$4+COUNTIF(J23:AX23,Dict!$E$3)*Dict!$E$4 -> 19 | N23: Y | O23: R | P23: R | U23: X | V23: E | W23: E | Y23: Y | Z23: E | AA23: E | AB23: E
A24: 46
A25: 47 | B25: SEC4503 | C25: Luận văn tốt nghiệp | D25: Kỳ 4 | E25: Tốt nghiệp | F25: 15 | G25: Bắt buộc | H25: =COUNTIF(J25:AX25,Dict!$B$1)*Dict!$B$2+COUNTIF(J25:AX25,Dict!$C$1)*Dict!$C$2 -> 8 | I25: =COUNTIF(J25:AX25,Dict!$B$3)*Dict!$B$4+COUNTIF(J25:AX25,Dict!$C$3)*Dict!$C$4+COUNTIF(J25:AX25,Dict!$D$3)*Dict!$D$4+COUNTIF(J25:AX25,Dict!$E$3)*Dict!$E$4 -> 30 | J25: X | K25: E | L25: E | M25: E | N25: X | O25: E | P25: E | Q25: X | R25: E | S25: E | Y25: X | Z25: E | AA25: E | AB25: E
C27: SUM X I | K27: =COUNTIFS(K6:K25,"I",J6:J25,"X") -> 2 | L27: =COUNTIFS(L6:L25,"I",J6:J25,"X") -> 2 | M27: =COUNTIFS(M6:M25,"I",J6:J25,"X") -> 2 | O27: =COUNTIFS(O6:O25,"I",N6:N25,"X") -> 2 | P27: =COUNTIFS(P6:P25,"I",N6:N25,"X") -> 2 | R27: =COUNTIFS(R6:R25,"I",Q6:Q25,"X") -> 3 | S27: =COUNTIFS(S6:S25,"I",Q6:Q25,"X") -> 3 | T27: =COUNTIFS(T6:T25,"I",Q6:Q25,"X") -> 0 | V27: =COUNTIFS(V6:V25,"I",U6:U25,"X") -> 3 | W27: =COUNTIFS(W6:W25,"I",U6:U25,"X") -> 3 | X27: =COUNTIFS(X6:X25,"I",U6:U25,"X") -> 0 | Z27: =COUNTIFS(Z6:Z25,"I",Y6:Y25,"X") -> 2 | AA27: =COUNTIFS(AA6:AA25,"I",Y6:Y25,"X") -> 2 | AB27: =COUNTIFS(AB6:AB25,"I",Y6:Y25,"X") -> 2 | AF27: =COUNTIFS(AF6:AF25,"I",AC6:AC25,"X") -> 0 | AH27: =COUNTIFS(AH6:AH25,"I",AG6:AG25,"X") -> 0 | AI27: =COUNTIFS(AI6:AI25,"A",AH6:AH25,"I",AG6:AG25,"X") -> 0 | AK27: =COUNTIFS(AK6:AK25,"I",AJ6:AJ25,"X") -> 0 | AL27: =COUNTIFS(AL6:AL25,"A",AK6:AK25,"I",AJ6:AJ25,"X") -> 0 | AN27: =COUNTIFS(AN6:AN25,"I",AM6:AM25,"X") -> 0 | AO27: =COUNTIFS(AO6:AO25,"A",AN6:AN25,"I",AM6:AM25,"X") -> 0 | AQ27: =COUNTIFS(AQ6:AQ25,"I",AP6:AP25,"X") -> 0 | AR27: =COUNTIFS(AR6:AR25,"A",AQ6:AQ25,"I",AP6:AP25,"X") -> 0 | AT27: =COUNTIFS(AT6:AT25,"I",AS6:AS25,"X") -> 0 | AU27: =COUNTIFS(AU6:AU25,"A",AT6:AT25,"I",AS6:AS25,"X") -> 0 | AW27: =COUNTIFS(AW6:AW25,"I",AV6:AV25,"X") -> 0 | AX27: =COUNTIFS(AX6:AX25,"A",AW6:AW25,"I",AV6:AV25,"X") -> 0
C28: SUM X R | K28: =COUNTIFS(K6:K25,"R",J6:J25,"X") -> 3 | L28: =COUNTIFS(L6:L25,"R",J6:J25,"X") -> 3 | M28: =COUNTIFS(M6:M25,"R",J6:J25,"X") -> 3 | O28: =COUNTIFS(O6:O25,"R",N6:N25,"X") -> 4 | P28: =COUNTIFS(P6:P25,"R",N6:N25,"X") -> 4 | R28: =COUNTIFS(R6:R25,"R",Q6:Q25,"X") -> 3 | S28: =COUNTIFS(S6:S25,"R",Q6:Q25,"X") -> 3 | T28: =COUNTIFS(T6:T25,"R",Q6:Q25,"X") -> 0 | V28: =COUNTIFS(V6:V25,"R",U6:U25,"X") -> 3 | W28: =COUNTIFS(W6:W25,"R",U6:U25,"X") -> 3 | X28: =COUNTIFS(X6:X25,"R",U6:U25,"X") -> 0 | Z28: =COUNTIFS(Z6:Z25,"R",Y6:Y25,"X") -> 4 | AA28: =COUNTIFS(AA6:AA25,"R",Y6:Y25,"X") -> 4 | AB28: =COUNTIFS(AB6:AB25,"R",Y6:Y25,"X") -> 4 | AF28: =COUNTIFS(AF6:AF25,"R",AC6:AC25,"X") -> 0 | AH28: =COUNTIFS(AH6:AH25,"R",AG6:AG25,"X") -> 0 | AI28: =COUNTIFS(AI6:AI25,"A",AH6:AH25,"R",AG6:AG25,"X") -> 0 | AK28: =COUNTIFS(AK6:AK25,"R",AJ6:AJ25,"X") -> 0 | AL28: =COUNTIFS(AL6:AL25,"A",AK6:AK25,"R",AJ6:AJ25,"X") -> 0 | AN28: =COUNTIFS(AN6:AN25,"R",AM6:AM25,"X") -> 0 | AO28: =COUNTIFS(AO6:AO25,"A",AN6:AN25,"R",AM6:AM25,"X") -> 0 | AQ28: =COUNTIFS(AQ6:AQ25,"R",AP6:AP25,"X") -> 0 | AR28: =COUNTIFS(AR6:AR25,"A",AQ6:AQ25,"R",AP6:AP25,"X") -> 0 | AT28: =COUNTIFS(AT6:AT25,"R",AS6:AS25,"X") -> 0 | AU28: =COUNTIFS(AU6:AU25,"A",AT6:AT25,"R",AS6:AS25,"X") -> 0 | AW28: =COUNTIFS(AW6:AW25,"R",AV6:AV25,"X") -> 0 | AX28: =COUNTIFS(AX6:AX25,"A",AW6:AW25,"R",AV6:AV25,"X") -> 0
C29: SUM X E | K29: =COUNTIFS(K6:K25,"E",J6:J25,"X") -> 3 | L29: =COUNTIFS(L6:L25,"E",J6:J25,"X") -> 3 | M29: =COUNTIFS(M6:M25,"E",J6:J25,"X") -> 3 | O29: =COUNTIFS(O6:O25,"E",N6:N25,"X") -> 3 | P29: =COUNTIFS(P6:P25,"E",N6:N25,"X") -> 3 | R29: =COUNTIFS(R6:R25,"E",Q6:Q25,"X") -> 3 | S29: =COUNTIFS(S6:S25,"E",Q6:Q25,"X") -> 3 | T29: =COUNTIFS(T6:T25,"E",Q6:Q25,"X") -> 0 | V29: =COUNTIFS(V6:V25,"E",U6:U25,"X") -> 3 | W29: =COUNTIFS(W6:W25,"E",U6:U25,"X") -> 3 | X29: =COUNTIFS(X6:X25,"E",U6:U25,"X") -> 0 | Z29: =COUNTIFS(Z6:Z25,"E",Y6:Y25,"X") -> 3 | AA29: =COUNTIFS(AA6:AA25,"E",Y6:Y25,"X") -> 3 | AB29: =COUNTIFS(AB6:AB25,"E",Y6:Y25,"X") -> 3 | AF29: =COUNTIFS(AF6:AF25,"E",AC6:AC25,"X") -> 0 | AH29: =COUNTIFS(AH6:AH25,"E",AG6:AG25,"X") -> 0 | AI29: =COUNTIFS(AI6:AI25,"A",AH6:AH25,"E",AG6:AG25,"X") -> 0 | AK29: =COUNTIFS(AK6:AK25,"E",AJ6:AJ25,"X") -> 0 | AL29: =COUNTIFS(AL6:AL25,"A",AK6:AK25,"E",AJ6:AJ25,"X") -> 0 | AN29: =COUNTIFS(AN6:AN25,"E",AM6:AM25,"X") -> 0 | AO29: =COUNTIFS(AO6:AO25,"A",AN6:AN25,"E",AM6:AM25,"X") -> 0 | AQ29: =COUNTIFS(AQ6:AQ25,"E",AP6:AP25,"X") -> 0 | AR29: =COUNTIFS(AR6:AR25,"A",AQ6:AQ25,"E",AP6:AP25,"X") -> 0 | AT29: =COUNTIFS(AT6:AT25,"E",AS6:AS25,"X") -> 0 | AU29: =COUNTIFS(AU6:AU25,"A",AT6:AT25,"E",AS6:AS25,"X") -> 0 | AW29: =COUNTIFS(AW6:AW25,"E",AV6:AV25,"X") -> 0 | AX29: =COUNTIFS(AX6:AX25,"A",AW6:AW25,"E",AV6:AV25,"X") -> 0
C31: SUM Y I | K31: =COUNTIFS(K6:K25,"I",J6:J25,"Y") -> 1 | O31: =COUNTIFS(O6:O25,"I",N6:N25,"Y") -> 1 | R31: =COUNTIFS(R6:R25,"I",Q6:Q25,"Y") -> 0 | V31: =COUNTIFS(V6:V25,"I",U6:U25,"Y") -> 0 | Z31: =COUNTIFS(Z6:Z25,"I",Y6:Y25,"Y") -> 0 | AH31: =COUNTIFS(AH6:AH25,"I",AG6:AG25,"Y") -> 0 | AI31: =COUNTIFS(AI6:AI25,"A",AH6:AH25,"I",AG6:AG25,"Y") -> 0 | AK31: =COUNTIFS(AK6:AK25,"I",AJ6:AJ25,"Y") -> 0 | AL31: =COUNTIFS(AL6:AL25,"A",AK6:AK25,"I",AJ6:AJ25,"Y") -> 0 | AN31: =COUNTIFS(AN6:AN25,"I",AM6:AM25,"Y") -> 0 | AO31: =COUNTIFS(AO6:AO25,"A",AN6:AN25,"I",AM6:AM25,"Y") -> 0 | AQ31: =COUNTIFS(AQ6:AQ25,"I",AP6:AP25,"Y") -> 0 | AR31: =COUNTIFS(AR6:AR25,"A",AQ6:AQ25,"I",AP6:AP25,"Y") -> 0 | AT31: =COUNTIFS(AT6:AT25,"I",AS6:AS25,"Y") -> 0 | AU31: =COUNTIFS(AU6:AU25,"A",AT6:AT25,"I",AS6:AS25,"Y") -> 0 | AW31: =COUNTIFS(AW6:AW25,"I",AV6:AV25,"Y") -> 0 | AX31: =COUNTIFS(AX6:AX25,"A",AW6:AW25,"I",AV6:AV25,"Y") -> 0
C32: SUM Y R | K32: =COUNTIFS(K6:K25,"R",J6:J25,"Y") -> 0 | O32: =COUNTIFS(O6:O25,"R",N6:N25,"Y") -> 3 | R32: =COUNTIFS(R6:R25,"R",Q6:Q25,"Y") -> 1 | V32: =COUNTIFS(V6:V25,"R",U6:U25,"Y") -> 0 | Z32: =COUNTIFS(Z6:Z25,"R",Y6:Y25,"Y") -> 0 | AH32: =COUNTIFS(AH6:AH25,"R",AG6:AG25,"Y") -> 0 | AI32: =COUNTIFS(AI6:AI25,"A",AH6:AH25,"R",AG6:AG25,"Y") -> 0 | AK32: =COUNTIFS(AK6:AK25,"R",AJ6:AJ25,"Y") -> 0 | AL32: =COUNTIFS(AL6:AL25,"A",AK6:AK25,"R",AJ6:AJ25,"Y") -> 0 | AN32: =COUNTIFS(AN6:AN25,"R",AM6:AM25,"Y") -> 0 | AO32: =COUNTIFS(AO6:AO25,"A",AN6:AN25,"R",AM6:AM25,"Y") -> 0 | AQ32: =COUNTIFS(AQ6:AQ25,"R",AP6:AP25,"Y") -> 0 | AR32: =COUNTIFS(AR6:AR25,"A",AQ6:AQ25,"R",AP6:AP25,"Y") -> 0 | AT32: =COUNTIFS(AT6:AT25,"R",AS6:AS25,"Y") -> 0 | AU32: =COUNTIFS(AU6:AU25,"A",AT6:AT25,"R",AS6:AS25,"Y") -> 0 | AW32: =COUNTIFS(AW6:AW25,"R",AV6:AV25,"Y") -> 0 | AX32: =COUNTIFS(AX6:AX25,"A",AW6:AW25,"R",AV6:AV25,"Y") -> 0
C33: SUM Y E | K33: =COUNTIFS(K6:K25,"E",J6:J25,"Y") -> 0 | O33: =COUNTIFS(O6:O25,"E",N6:N25,"Y") -> 0 | R33: =COUNTIFS(R6:R25,"E",Q6:Q25,"Y") -> 0 | V33: =COUNTIFS(V6:V25,"E",U6:U25,"Y") -> 0 | Z33: =COUNTIFS(Z6:Z25,"E",Y6:Y25,"Y") -> 2 | AH33: =COUNTIFS(AH6:AH25,"E",AG6:AG25,"Y") -> 0 | AI33: =COUNTIFS(AI6:AI25,"A",AH6:AH25,"E",AG6:AG25,"Y") -> 0 | AK33: =COUNTIFS(AK6:AK25,"E",AJ6:AJ25,"Y") -> 0 | AL33: =COUNTIFS(AL6:AL25,"A",AK6:AK25,"E",AJ6:AJ25,"Y") -> 0 | AN33: =COUNTIFS(AN6:AN25,"E",AM6:AM25,"Y") -> 0 | AO33: =COUNTIFS(AO6:AO25,"A",AN6:AN25,"E",AM6:AM25,"Y") -> 0 | AQ33: =COUNTIFS(AQ6:AQ25,"E",AP6:AP25,"Y") -> 0 | AR33: =COUNTIFS(AR6:AR25,"A",AQ6:AQ25,"E",AP6:AP25,"Y") -> 0 | AT33: =COUNTIFS(AT6:AT25,"E",AS6:AS25,"Y") -> 0 | AU33: =COUNTIFS(AU6:AU25,"A",AT6:AT25,"E",AS6:AS25,"Y") -> 0 | AW33: =COUNTIFS(AW6:AW25,"E",AV6:AV25,"Y") -> 0 | AX33: =COUNTIFS(AX6:AX25,"A",AW6:AW25,"E",AV6:AV25,"Y") -> 0

Sheet Dict
A1: i | B1: X | C1: Y
B2: 2 | C2: 1
A3: ii | B3: I | C3: R | D3: E
B4: 1 | C4: 2 | D4: 3
A5: iii | B5: A | C5: -
B6: 1
